BEGIN:VCALENDAR
VERSION:2.0
PRODID:-//Stichting Behoud Trinitatiskapel - ECPv6.15.20//NONSGML v1.0//EN
CALSCALE:GREGORIAN
METHOD:PUBLISH
X-WR-CALNAME:Stichting Behoud Trinitatiskapel
X-ORIGINAL-URL:https://www.stichtingbehoudtrinitatiskapel.nl
X-WR-CALDESC:Evenementen voor Stichting Behoud Trinitatiskapel
REFRESH-INTERVAL;VALUE=DURATION:PT1H
X-Robots-Tag:noindex
X-PUBLISHED-TTL:PT1H
BEGIN:VTIMEZONE
TZID:Europe/Amsterdam
BEGIN:DAYLIGHT
TZOFFSETFROM:+0100
TZOFFSETTO:+0200
TZNAME:CEST
DTSTART:20250330T010000
END:DAYLIGHT
BEGIN:STANDARD
TZOFFSETFROM:+0200
TZOFFSETTO:+0100
TZNAME:CET
DTSTART:20251026T010000
END:STANDARD
BEGIN:DAYLIGHT
TZOFFSETFROM:+0100
TZOFFSETTO:+0200
TZNAME:CEST
DTSTART:20260329T010000
END:DAYLIGHT
BEGIN:STANDARD
TZOFFSETFROM:+0200
TZOFFSETTO:+0100
TZNAME:CET
DTSTART:20261025T010000
END:STANDARD
BEGIN:DAYLIGHT
TZOFFSETFROM:+0100
TZOFFSETTO:+0200
TZNAME:CEST
DTSTART:20270328T010000
END:DAYLIGHT
BEGIN:STANDARD
TZOFFSETFROM:+0200
TZOFFSETTO:+0100
TZNAME:CET
DTSTART:20271031T010000
END:STANDARD
END:VTIMEZONE
BEGIN:VEVENT
DTSTART;TZID=Europe/Amsterdam:20260305T200000
DTEND;TZID=Europe/Amsterdam:20260305T200000
DTSTAMP:20260424T023200
CREATED:20250215T210001Z
LAST-MODIFIED:20260222T102920Z
UID:3820-1772740800-1772740800@www.stichtingbehoudtrinitatiskapel.nl
SUMMARY:Beladen huis | Christien Brinkgreve | Dordts Literair Podium
DESCRIPTION:Op 5 maart bezoek Christien Brinkgreve het Dordts Literair Podium. Brinkgreve\, socioloog\, emeritus hoogleraar en schrijver\, beschrijft in haar memoir Beladen huis een steeds terugkerende droom die ze had na het overlijden van haar man. \nU kunt zich via deze link aanmelden voor deze avond.
URL:https://www.stichtingbehoudtrinitatiskapel.nl/activiteit/beladen-huis-christien-brinkgreve-dordts-literair-podium/
LOCATION:Trinitatiskapel\, Vriesestraat 22\, Dordrecht\, 3311 NR\, Nederland
CATEGORIES:diversen
ATTACH;FMTTYPE=image/jpeg:https://www.stichtingbehoudtrinitatiskapel.nl/wp-content/uploads/2025/11/literair-cafe.jpg
END:VEVENT
BEGIN:VEVENT
DTSTART;TZID=Europe/Amsterdam:20260328T200000
DTEND;TZID=Europe/Amsterdam:20260328T200000
DTSTAMP:20260424T023200
CREATED:20240701T100034Z
LAST-MODIFIED:20260308T112946Z
UID:3830-1774728000-1774728000@www.stichtingbehoudtrinitatiskapel.nl
SUMMARY:Kamermuziek Dordrecht |  Beat Maurer
DESCRIPTION:Op zaterdag 28 maart treedt de Zwitserse trombonist Beat Maurer op. Samen met pianiste Caecilia Boschman presenteert hij een bijzonder en sfeervol programma waarin de lyrische kant van de trombone centraal staat.Op zaterdag 28 maart treedt de Zwitserse trombonist Beat Maurer op. Samen met pianiste Caecilia Boschman presenteert hij een bijzonder en sfeervol programma waarin de lyrische kant van de trombone centraal staat. \nOp zaterdag 28 maart treedt de Zwitserse trombonist Beat Maurer op. Samen met pianiste Caecilia Boschman presenteert hij een bijzonder en sfeervol programma waarin de lyrische kant van de trombone centraal staat. \nHet Concert voor Trombone van Launy Grøndahl\, Sonata Vox Gabrieli van Stjepan Šulec en het Adagio uit BWV 972 van J.S. Bach zullen worden uitgevoerd. \n  \nMeer informatie vindt u op de website van de Kamermuziek Dordrecht
URL:https://www.stichtingbehoudtrinitatiskapel.nl/activiteit/kamermuziek-dordrecht-beat-maurer/
LOCATION:Trinitatiskapel\, Vriesestraat 22\, Dordrecht\, 3311 NR\, Nederland
CATEGORIES:concert
ATTACH;FMTTYPE=image/jpeg:https://www.stichtingbehoudtrinitatiskapel.nl/wp-content/uploads/2024/07/beate-maurer.jpg
ORGANIZER;CN="Kamermuziek Dordrecht":MAILTO:contact@kamermuziekdordrecht.nl
END:VEVENT
END:VCALENDAR