BEGIN:VCALENDAR
VERSION:2.0
PRODID:-//Stichting Behoud Trinitatiskapel - ECPv6.15.20//NONSGML v1.0//EN
CALSCALE:GREGORIAN
METHOD:PUBLISH
X-ORIGINAL-URL:https://www.stichtingbehoudtrinitatiskapel.nl
X-WR-CALDESC:Evenementen voor Stichting Behoud Trinitatiskapel
REFRESH-INTERVAL;VALUE=DURATION:PT1H
X-Robots-Tag:noindex
X-PUBLISHED-TTL:PT1H
BEGIN:VTIMEZONE
TZID:Europe/Amsterdam
BEGIN:DAYLIGHT
TZOFFSETFROM:+0100
TZOFFSETTO:+0200
TZNAME:CEST
DTSTART:20240331T010000
END:DAYLIGHT
BEGIN:STANDARD
TZOFFSETFROM:+0200
TZOFFSETTO:+0100
TZNAME:CET
DTSTART:20241027T010000
END:STANDARD
BEGIN:DAYLIGHT
TZOFFSETFROM:+0100
TZOFFSETTO:+0200
TZNAME:CEST
DTSTART:20250330T010000
END:DAYLIGHT
BEGIN:STANDARD
TZOFFSETFROM:+0200
TZOFFSETTO:+0100
TZNAME:CET
DTSTART:20251026T010000
END:STANDARD
BEGIN:DAYLIGHT
TZOFFSETFROM:+0100
TZOFFSETTO:+0200
TZNAME:CEST
DTSTART:20260329T010000
END:DAYLIGHT
BEGIN:STANDARD
TZOFFSETFROM:+0200
TZOFFSETTO:+0100
TZNAME:CET
DTSTART:20261025T010000
END:STANDARD
END:VTIMEZONE
BEGIN:VEVENT
DTSTART;TZID=Europe/Amsterdam:20251206T153000
DTEND;TZID=Europe/Amsterdam:20251206T153000
DTSTAMP:20260424T081447
CREATED:20250910T100048Z
LAST-MODIFIED:20251203T201302Z
UID:3747-1765035000-1765035000@www.stichtingbehoudtrinitatiskapel.nl
SUMMARY:Lessons &  Carols | Kleinkoor Concertino
DESCRIPTION:Op zaterdag 6 december verzorgt Kleinkoor Concertino een kerstprogramma. Het koor staat onder leiding van Martin Zonnenberg. \nAan het concert wordt medewerking verleend door Johan den Hoedt (orgel).
URL:https://www.stichtingbehoudtrinitatiskapel.nl/activiteit/lessons-carols-kleinkoor-concertino/
LOCATION:Trinitatiskapel\, Vriesestraat 22\, Dordrecht\, 3311 NR\, Nederland
CATEGORIES:concert
ATTACH;FMTTYPE=image/jpeg:https://www.stichtingbehoudtrinitatiskapel.nl/wp-content/uploads/2023/11/kleinkoor-concertino.jpg
END:VEVENT
BEGIN:VEVENT
DTSTART;TZID=Europe/Amsterdam:20251207T160000
DTEND;TZID=Europe/Amsterdam:20251207T160000
DTSTAMP:20260424T081447
CREATED:20251120T110048Z
LAST-MODIFIED:20251128T124343Z
UID:3788-1765123200-1765123200@www.stichtingbehoudtrinitatiskapel.nl
SUMMARY:Bewust leiderschap | masterclass
DESCRIPTION:Op 7 december wordt een bijeenkomst over bewust leiderschap georganiseerd. Het belooft een inspirerende middag te worden. \nMeer informatie vindt u online. Ook zijn kaarten zijn hier verkrijgbaar.
URL:https://www.stichtingbehoudtrinitatiskapel.nl/activiteit/bewust-leiderschap-masterclass/
LOCATION:Trinitatiskapel\, Vriesestraat 22\, Dordrecht\, 3311 NR\, Nederland
CATEGORIES:diversen
ATTACH;FMTTYPE=image/jpeg:https://www.stichtingbehoudtrinitatiskapel.nl/wp-content/uploads/2025/11/conscious-leadership-christmas-edition.jpg
END:VEVENT
BEGIN:VEVENT
DTSTART;TZID=Europe/Amsterdam:20251212T201500
DTEND;TZID=Europe/Amsterdam:20251212T201500
DTSTAMP:20260424T081447
CREATED:20251120T110048Z
LAST-MODIFIED:20251128T122631Z
UID:3785-1765570500-1765570500@www.stichtingbehoudtrinitatiskapel.nl
SUMMARY:Pak de trein met Mallet Collective naar Dordrecht
DESCRIPTION:Treinreizen prikkelen de verbeelding. Je ontmoet onbekenden\, ziet voortdurend wisselende landschappen en hebt de tijd om te reflecteren. Maar de trein is meer dan alleen mooie uitzichten. Soms ontmoet je onverwachts iemand in de coupé. Soms sta je samen met heel veel mensen op een bomvol perron. En soms stap je nog net in de laatste trein naar huis\, terwijl de avond stil wordt. \nHet Mallet Collective verzorgt een concert in de Trinitatiskapel ter gelegenheid van de album-release ‘Views from Dutch trains’. \nKaarten zijn online verkrijgbaar.
URL:https://www.stichtingbehoudtrinitatiskapel.nl/activiteit/pak-de-trein-met-mallet-collective-naar-dordrecht/
LOCATION:Trinitatiskapel\, Vriesestraat 22\, Dordrecht\, 3311 NR\, Nederland
CATEGORIES:concert
ATTACH;FMTTYPE=image/jpeg:https://www.stichtingbehoudtrinitatiskapel.nl/wp-content/uploads/2025/09/Mallet-Collective-Trains.jpeg
END:VEVENT
BEGIN:VEVENT
DTSTART;VALUE=DATE:20251213
DTEND;VALUE=DATE:20251215
DTSTAMP:20260424T081447
CREATED:20251123T210001Z
LAST-MODIFIED:20251213T151033Z
UID:3811-1765584000-1765756799@www.stichtingbehoudtrinitatiskapel.nl
SUMMARY:Pieter Huijzer exposeert in de Kosterij
DESCRIPTION:In het weekend van 13 en 14 december exposeert en verkoopt kunstschilder Pieter Huijzer zijn werk in de Kosterij naast de Trinitatiskapel. De hoofdonderwerpen van zijn schilderijen zijn Dordtse stadsgezichten\, landschappen en schaatstaferelen. \nDe expositie is toegankelijk op zaterdag 13 en zondag 14 december. Op 13 december openen de deuren om 10.00 uur\, op 14 december om 12.00 uur.
URL:https://www.stichtingbehoudtrinitatiskapel.nl/activiteit/pieter-huijzer-exposeert-in-de-kosterij-2025/
LOCATION:In de Kosterij\, Vriesestraat 20\, Dordrecht\, 3311 NR
CATEGORIES:diversen
ATTACH;FMTTYPE=image/jpeg:https://www.stichtingbehoudtrinitatiskapel.nl/wp-content/uploads/2023/11/grotekerk-pieter-huijzer.jpg
END:VEVENT
BEGIN:VEVENT
DTSTART;TZID=Europe/Amsterdam:20251216T200000
DTEND;TZID=Europe/Amsterdam:20251216T200000
DTSTAMP:20260424T081447
CREATED:20251127T110048Z
LAST-MODIFIED:20251203T070620Z
UID:3796-1765915200-1765915200@www.stichtingbehoudtrinitatiskapel.nl
SUMMARY:Kerstconcert | Cantiamo
DESCRIPTION:Op dinsdagavond 16 december brengt Cantiamo\, het Vriendenkoor van de Dordtse Vrijeschool\, u met een bijzonder kerstconcert in feestelijke stemming.\nMedewerking wordt verleend door Ine Blom (althobo)\, Bart Verschoor (fagot)\, Miriam Verhoeven (tenorsaxofoon)\, Annelioes Verschoor (baritonsaxofoon) en Herman van Rooijen (piano). \nDe muzikale leiding is in handen van Ine Blom.
URL:https://www.stichtingbehoudtrinitatiskapel.nl/activiteit/kerstconcert-cantiamo/
LOCATION:Trinitatiskapel\, Vriesestraat 22\, Dordrecht\, 3311 NR\, Nederland
CATEGORIES:concert
ATTACH;FMTTYPE=image/jpeg:https://www.stichtingbehoudtrinitatiskapel.nl/wp-content/uploads/2025/11/kerstconcert.jpeg
END:VEVENT
BEGIN:VEVENT
DTSTART;TZID=Europe/Amsterdam:20251218T201500
DTEND;TZID=Europe/Amsterdam:20251218T201500
DTSTAMP:20260424T081447
CREATED:20251127T110048Z
LAST-MODIFIED:20251207T102510Z
UID:3805-1766088900-1766088900@www.stichtingbehoudtrinitatiskapel.nl
SUMMARY:Kerstconcert | International Vocal Orchestra – Art of Voices
DESCRIPTION:De Trinitatiskapel vormt het sfeervolle decor voor een bijzonder kerstconcert van het International Vocal Orchestra – Art of Voices met het programma Veelstemmig Licht.\nTien professionele zangers brengen close-harmony-kerstmuziek op topniveau. Bekende kerstliederen klinken in nieuwe\, meerstemmige arrangementen: soms tienstemmig en fluisterzacht\, dan weer vol en majestueus. Alles wordt a capella gezongen\, waardoor de prachtige akoestiek van de kapel volledig tot zijn recht komt.
URL:https://www.stichtingbehoudtrinitatiskapel.nl/activiteit/kerstconcert-international-vocal-orchestra-art-of-voices/
LOCATION:Trinitatiskapel\, Vriesestraat 22\, Dordrecht\, 3311 NR\, Nederland
CATEGORIES:concert
ATTACH;FMTTYPE=image/png:https://www.stichtingbehoudtrinitatiskapel.nl/wp-content/uploads/2025/11/artofvcoices.png
END:VEVENT
BEGIN:VEVENT
DTSTART;TZID=Europe/Amsterdam:20251220T200000
DTEND;TZID=Europe/Amsterdam:20251220T200000
DTSTAMP:20260424T081447
CREATED:20251127T110048Z
LAST-MODIFIED:20251128T125152Z
UID:3791-1766260800-1766260800@www.stichtingbehoudtrinitatiskapel.nl
SUMMARY:Kerstconcert | Orpheus ensemble
DESCRIPTION:Op zaterdagavond 20 december en op zondagmiddag 21 december hoopt het Orpheus Ensemble u met een bijzonder concert in feestelijke kerststemming te brengen. Medewerking wordt verleend door Wieke Kersten (dwarsfluit). De begeleiding is in handen van Jeroen Liedorp en de muzikale leiding wordt verzorgd door Caecilia Boschman. \nKaarten zijn verkrijgbaar via de website van het Orpheus Ensemble.
URL:https://www.stichtingbehoudtrinitatiskapel.nl/activiteit/kerstconcert-orpheus-ensemble-2025/
LOCATION:Trinitatiskapel\, Vriesestraat 22\, Dordrecht\, 3311 NR\, Nederland
CATEGORIES:concert
ATTACH;FMTTYPE=image/jpeg:https://www.stichtingbehoudtrinitatiskapel.nl/wp-content/uploads/2023/08/orpheus-ensemble.jpg
END:VEVENT
BEGIN:VEVENT
DTSTART;TZID=Europe/Amsterdam:20251221T143000
DTEND;TZID=Europe/Amsterdam:20251221T143000
DTSTAMP:20260424T081447
CREATED:20251127T110048Z
LAST-MODIFIED:20251128T125305Z
UID:3794-1766327400-1766327400@www.stichtingbehoudtrinitatiskapel.nl
SUMMARY:Kerstconcert | Orpheus ensemble
DESCRIPTION:Op zaterdagavond 20 december en op zondagmiddag 21 december hoopt het Orpheus Ensemble u met een bijzonder concert in feestelijke kerststemming te brengen. Medewerking wordt verleend door Wieke Kersten (dwarsfluit). De begeleiding is in handen van Jeroen Liedorp en de muzikale leiding wordt verzorgd door Caecilia Boschman. \nKaarten zijn verkrijgbaar via de website van het Orpheus Ensemble.
URL:https://www.stichtingbehoudtrinitatiskapel.nl/activiteit/kerstconcert-orpheus-ensemble-2025-2/
LOCATION:Trinitatiskapel\, Vriesestraat 22\, Dordrecht\, 3311 NR\, Nederland
CATEGORIES:concert
ATTACH;FMTTYPE=image/jpeg:https://www.stichtingbehoudtrinitatiskapel.nl/wp-content/uploads/2023/08/orpheus-ensemble.jpg
END:VEVENT
END:VCALENDAR