BEGIN:VCALENDAR
VERSION:2.0
PRODID:-//Stichting Behoud Trinitatiskapel - ECPv6.15.20//NONSGML v1.0//EN
CALSCALE:GREGORIAN
METHOD:PUBLISH
X-ORIGINAL-URL:https://www.stichtingbehoudtrinitatiskapel.nl
X-WR-CALDESC:Evenementen voor Stichting Behoud Trinitatiskapel
REFRESH-INTERVAL;VALUE=DURATION:PT1H
X-Robots-Tag:noindex
X-PUBLISHED-TTL:PT1H
BEGIN:VTIMEZONE
TZID:Europe/Amsterdam
BEGIN:DAYLIGHT
TZOFFSETFROM:+0100
TZOFFSETTO:+0200
TZNAME:CEST
DTSTART:20240331T010000
END:DAYLIGHT
BEGIN:STANDARD
TZOFFSETFROM:+0200
TZOFFSETTO:+0100
TZNAME:CET
DTSTART:20241027T010000
END:STANDARD
BEGIN:DAYLIGHT
TZOFFSETFROM:+0100
TZOFFSETTO:+0200
TZNAME:CEST
DTSTART:20250330T010000
END:DAYLIGHT
BEGIN:STANDARD
TZOFFSETFROM:+0200
TZOFFSETTO:+0100
TZNAME:CET
DTSTART:20251026T010000
END:STANDARD
BEGIN:DAYLIGHT
TZOFFSETFROM:+0100
TZOFFSETTO:+0200
TZNAME:CEST
DTSTART:20260329T010000
END:DAYLIGHT
BEGIN:STANDARD
TZOFFSETFROM:+0200
TZOFFSETTO:+0100
TZNAME:CET
DTSTART:20261025T010000
END:STANDARD
END:VTIMEZONE
BEGIN:VEVENT
DTSTART;TZID=Europe/Amsterdam:20251003T200000
DTEND;TZID=Europe/Amsterdam:20251003T200000
DTSTAMP:20260424T114854
CREATED:20250706T100048Z
LAST-MODIFIED:20250929T053923Z
UID:3400-1759521600-1759521600@www.stichtingbehoudtrinitatiskapel.nl
SUMMARY:Kapelconcert - Hans en Manja Kruidhof-Okkerse
DESCRIPTION:Op vrijdag 3 oktober klinkt er opnieuw prachtige muziek in de sfeervolle Trinitatiskapel tijdens een bijzonder kapelconcert\, waarbij pianomuziek centraal staat. De concertvleugel van de kapel wordt bespeeld door Hans Okkerse. Samen met zijn dochter Manja Kruidhof-Okkerse\, violist\, verzorgt hij een sfeervol en afwisselend programma. \n\nBiografie Hans Okkerse\nHans Okkerse (1958) heeft schoolmuziek\, orgel (bij André Verwoerd) en piano (bij Frédéric Meinders) gestudeerd. Daarnaast heeft hij een hbo-studie theologie gedaan. Hij heeft in het voortgezet onderwijs gewerkt\, eerst als muziekdocent en later als docent godsdienst/levensbeschouwing. Verder is hij werkzaam als kerkorganist\, begeleider van koren en kamermusicus. \n\nBiografie Manja Kruidhof-Okkerse\nManja Kruidhof-Okkerse (1991) groeide op in een muzikaal gezin en maakte al vroeg kennis met de viool.\nZe studeerde in Leiden (BA klassieke talen\, 2015)\, Rotterdam (BA viool\, 2017) en Amsterdam (MA viool met bijvak barokviool\, 2019). Na haar afstuderen werkte Manja o.a. bij de Nederlandse Bachvereniging (als Young Bach Fellow\, 2019-2022) en de Nieuwe Philharmonie Utrecht o.l.v. Johannes Leertouwer.\nManja is getrouwd met componist Jannum Kruidhof. Ze wonen in Dordrecht met hun dochter Dana en Mischa. \nProgramma\nJohannes Brahms (1833 – 1897)\nSonate voor viool en piano\, opus 78\n– Vivace ma non troppo\n– Adagio\n– Allegro molto moderato \nJohannes Brahms\nIntermezzo Opus 117\, nr. 2 – piano \nJannum Kruidhof (geb. 1992)\nDe horizon voorbij* – viool en piano \nAlphons Diepenbrock (1862-1921)\nAvondschemer – piano \nWillem Andriessen (1887-1964)\nPraeludium – piano \nJean Franssen (1920-1991)\nSonate voor viool en piano (1952)\n– Adagio tranquillo – tempo giusto – energico\n– Andantino\n– Allegro Capriccioso \n* Wereldpremière
URL:https://www.stichtingbehoudtrinitatiskapel.nl/activiteit/kapelconcert-hans-en-manja-okkerse/
LOCATION:Trinitatiskapel\, Vriesestraat 22\, Dordrecht\, 3311 NR\, Nederland
CATEGORIES:concert,pianoconcert
ATTACH;FMTTYPE=image/jpeg:https://www.stichtingbehoudtrinitatiskapel.nl/wp-content/uploads/2025/07/Hans-Okkerse-orgel-Manja-Kruithof-Okkerse-viool.jpg
END:VEVENT
BEGIN:VEVENT
DTSTART;TZID=Europe/Amsterdam:20251010T130000
DTEND;TZID=Europe/Amsterdam:20251010T130000
DTSTAMP:20260424T114854
CREATED:20250706T100048Z
LAST-MODIFIED:20250807T173511Z
UID:3391-1760101200-1760101200@www.stichtingbehoudtrinitatiskapel.nl
SUMMARY:Kapelconcert - orgel - Reinier Korver
DESCRIPTION:Op vrijdagmiddag 10 oktober klinkt er opnieuw prachtige muziek in de sfeervolle Trinitatiskapel tijdens een bijzonder kapelconcert. Centraal staat het historische Wolfferts-orgel\, een instrument met karakter en geschiedenis. Dit concert biedt een unieke gelegenheid om de rijke klanken van het orgel in volle glorie te beleven. \nDe veelzijdig musicus Reinier Korver neemt plaats achter de klavieren \n\nBiografie Reinier Korver\nReinier Korver is een bevlogen musicus met een grote liefde voor het orgel en de kerkmuziek. Hij brengt deze passie tot uiting als organist\, componist\, dirigent en muziekdocent. Een unieke manier van spelen\, prachtig geluid en plezier staan te allen tijde voorop. \nHij is als organist verbonden aan verschillende kerken\, waaronder die in Zaltbommel\, Andel\, Geertruidenberg en Lexmond. \nProgramma\nHier volgt nadere informatie over het programma.
URL:https://www.stichtingbehoudtrinitatiskapel.nl/activiteit/kapelconcert-orgel-reinier-korver/
LOCATION:Trinitatiskapel\, Vriesestraat 22\, Dordrecht\, 3311 NR\, Nederland
CATEGORIES:concert,orgelconcert
ATTACH;FMTTYPE=image/jpeg:https://www.stichtingbehoudtrinitatiskapel.nl/wp-content/uploads/2025/07/Reinier-Korver.jpg
END:VEVENT
BEGIN:VEVENT
DTSTART;TZID=Europe/Amsterdam:20251011T153000
DTEND;TZID=Europe/Amsterdam:20251011T153000
DTSTAMP:20260424T114855
CREATED:20250906T100048Z
LAST-MODIFIED:20250924T060824Z
UID:3752-1760196600-1760196600@www.stichtingbehoudtrinitatiskapel.nl
SUMMARY:Kapelconcert - DidiMa Duo
DESCRIPTION:Op zaterdagmiddag 11 oktober verzorgt het DidiMa Duo\, bestaande uit de neven Diederik en Maarten Smitsman een concert in de Trinitatiskapel. Zowel het orgel als de vleugel zullen te horen zijn in een afwisselend programma. \nAan dit concert wordt ook medewerking verleend door Reinier Korver en Thijmen Bouman
URL:https://www.stichtingbehoudtrinitatiskapel.nl/activiteit/kapelconcert-didima-duo/
LOCATION:Trinitatiskapel\, Vriesestraat 22\, Dordrecht\, 3311 NR\, Nederland
CATEGORIES:concert
ATTACH;FMTTYPE=image/jpeg:https://www.stichtingbehoudtrinitatiskapel.nl/wp-content/uploads/2025/07/didima_duo.jpeg
END:VEVENT
BEGIN:VEVENT
DTSTART;TZID=Europe/Amsterdam:20251017T200000
DTEND;TZID=Europe/Amsterdam:20251017T200000
DTSTAMP:20260424T114855
CREATED:20250706T100048Z
LAST-MODIFIED:20250706T154232Z
UID:3402-1760731200-1760731200@www.stichtingbehoudtrinitatiskapel.nl
SUMMARY:Kapelconcert - Mark Brandwijk en Boudewijn Zwart
DESCRIPTION:Op vrijdag 17 oktober klinkt er opnieuw prachtige muziek in de sfeervolle Trinitatiskapel tijdens een bijzonder kapelconcert\, waarbij pianomuziek centraal staat. De concertvleugel van de kapel wordt bespeeld door Boudewijn Zwart en Mark Brandwijk\, die samen een boeiend en afwisselend programma verzorgen. \n\nBiografie Boudewijn Zwart\nBoudewijn Zwart is een veelzijdig musicus: beiaardier\, pianist\, organist en componist. Hij groeide op in een bekende organistenfamilie en studeerde beiaard aan de Nederlandse Beiaardschool in Amersfoort bij onder anderen Leen ’t Hart. Zijn pianostudie volgde hij aan het Sweelinck Conservatorium in Amsterdam bij Willem Brons. \nHij is stadsbeiaardier van onder meer Dordrecht\, Amsterdam\, Gouda en Ede\, en president van de internationale beiaardiersvereniging Eurocarillon. \n\nBiografie Mark Brandwijk\nMark Brandwijk is een veelzijdig Nederlands pianist\, organist\, componist en dirigent. Hij begon op jonge leeftijd met muzieklessen. Zijn pianostudie volgde hij onder meer bij Mirjam IJsseldijk\, Jan-Willem van Delft en Bert van den Brink.\nHij won diverse prijzen\, waaronder driemaal de wisselbeker van het Feike Asma-concours en de eerste prijs tijdens de Maassluise Muziekweek. \nAls pianist is hij actief als solist én als veelgevraagd begeleider van koren\, solisten en instrumentalisten. Ook componeert hij\, geeft hij concerten in binnen- en buitenland\, en werkt hij mee aan cd-opnames.
URL:https://www.stichtingbehoudtrinitatiskapel.nl/activiteit/kapelconcert-mark-brandwijk-en-boudewijn-zwart/
LOCATION:Trinitatiskapel\, Vriesestraat 22\, Dordrecht\, 3311 NR\, Nederland
CATEGORIES:concert,pianoconcert
ATTACH;FMTTYPE=image/jpeg:https://www.stichtingbehoudtrinitatiskapel.nl/wp-content/uploads/2024/02/vleugel.jpg
END:VEVENT
BEGIN:VEVENT
DTSTART;TZID=Europe/Amsterdam:20251024T130000
DTEND;TZID=Europe/Amsterdam:20251024T130000
DTSTAMP:20260424T114855
CREATED:20250706T100048Z
LAST-MODIFIED:20250807T175458Z
UID:3393-1761310800-1761310800@www.stichtingbehoudtrinitatiskapel.nl
SUMMARY:Kapelconcert - orgel - Johan den Hoedt
DESCRIPTION:Op vrijdagmiddag 24 oktober klinkt er opnieuw prachtige muziek in de sfeervolle Trinitatiskapel tijdens een bijzonder kapelconcert. Het historische Wolfferts-orgel staat centraal\, een instrument met karakter en geschiedenis. Dit concert biedt een unieke gelegenheid om de rijke klanken van het orgel in volle glorie te beleven. \nDe Dordtse organist Johan den Hoedt neemt plaats achter de klavieren en laat het orgel spreken met zijn expressieve spel en muzikale diepgang. \n\nBiografie Johan den Hoedt\nJohan den Hoedt studeerde orgel aan het Rotterdams Conservatorium bij Arie J. Keijzer en volgde later lessen bij Cor Ardesch in Dordrecht. Daarnaast volgde hij een meerjarige dirigentenopleiding aan het SNK in Utrecht. \nHij is als organist verbonden aan onder meer De Wijnstok in Dordrecht\, De Morgenster in Papendrecht en de Maranathakerk in Werkendam. Naast zijn werk als organist is hij actief als dirigent van diverse koren\, geeft hij orgel- en pianolessen en treedt hij regelmatig op als concertorganist en begeleider van koren en solisten. \nProgramma\n\nGeorg Böhm (1661-1733)\nVater unser im Himmelreich\nEuwe de Jong (* 1956)\nFantasia pro Organo (BWV 573) by J.S.Bach completet as a Concerto\nAd Wammes/strong> (* 1953)\nChrist\, der du bist der helle Tag\nJustin Heinrich Knecht (1752-1817)\nThema mit vier Veränderungen\nToon Hagen (* 1959)\nVater unser im Himmelreich (koraal en 4 variaties voor orgel)\nJohan den Hoedt (* 1970)\nRéponse a mes amis
URL:https://www.stichtingbehoudtrinitatiskapel.nl/activiteit/kapelconcert-orgel-johan-den-hoedt/
LOCATION:Trinitatiskapel\, Vriesestraat 22\, Dordrecht\, 3311 NR\, Nederland
CATEGORIES:concert,orgelconcert
ATTACH;FMTTYPE=image/jpeg:https://www.stichtingbehoudtrinitatiskapel.nl/wp-content/uploads/2025/07/IMG_5756-1.jpg
END:VEVENT
BEGIN:VEVENT
DTSTART;TZID=Europe/Amsterdam:20251030T200000
DTEND;TZID=Europe/Amsterdam:20251030T200000
DTSTAMP:20260424T114855
CREATED:20251001T100017Z
LAST-MODIFIED:20251023T105928Z
UID:3763-1761854400-1761854400@www.stichtingbehoudtrinitatiskapel.nl
SUMMARY:Oud Dordrecht - Uitreiking Dordtse Puienprijs
DESCRIPTION:Ter gelegenheid van haar 125-jarig jubileum heeft de Vereniging Oud-Dordrecht in 2017 de Dordtse Puienprijs in het leven geroepen. Met deze prijs wil de vereniging bijdragen aan de verbetering van het stadsaangezicht door geslaagde gevelrestauraties te belonen. \nDit jaar wordt de Dordtse Puienprijs voor de vijfde keer uitgereikt. De feestelijke bijeenkomst vindt plaats op donderdag 30 oktober in de Trinitatiskapel. U bent van harte welkom!
URL:https://www.stichtingbehoudtrinitatiskapel.nl/activiteit/uitreiking-dordtse-puienprijs-2025/
LOCATION:Trinitatiskapel\, Vriesestraat 22\, Dordrecht\, 3311 NR\, Nederland
CATEGORIES:vergadering
ATTACH;FMTTYPE=image/png:https://www.stichtingbehoudtrinitatiskapel.nl/wp-content/uploads/2023/02/Oud_Dordrecht_LOGOzonder-125-lowres.png
ORGANIZER;CN="Vereniging Oud-Dordrecht":MAILTO:info@oud-dordrecht.nl
END:VEVENT
BEGIN:VEVENT
DTSTART;TZID=Europe/Amsterdam:20251031T200000
DTEND;TZID=Europe/Amsterdam:20251031T200000
DTSTAMP:20260424T114855
CREATED:20250910T100021Z
LAST-MODIFIED:20250912T062154Z
UID:3744-1761940800-1761940800@www.stichtingbehoudtrinitatiskapel.nl
SUMMARY:Reformatieconcert | Christelijk Jongerenkoor Glory
DESCRIPTION:Op 31 oktober verzorgt het Christelijk Jongerenkoor Glorie uit Hardinxveld-Giessendam een concert in de Trinitatiskapel. Het koor staat onder leiding van Mark Brandwijk.Het concert staat in het teken van de herdenking van de reformatie. \nAan het concert wordt medewerking verleend door Hans Okkerse (vleugel) en Johan den Hoedt (orgel).
URL:https://www.stichtingbehoudtrinitatiskapel.nl/activiteit/reformatieconcert-christelijk-jongerenkoor-glory/
LOCATION:Trinitatiskapel\, Vriesestraat 22\, Dordrecht\, 3311 NR\, Nederland
CATEGORIES:concert
ATTACH;FMTTYPE=image/jpeg:https://www.stichtingbehoudtrinitatiskapel.nl/wp-content/uploads/2025/02/jongerenkoor-glory.jpeg
END:VEVENT
END:VCALENDAR