BEGIN:VCALENDAR
VERSION:2.0
PRODID:-//Stichting Behoud Trinitatiskapel - ECPv6.15.20//NONSGML v1.0//EN
CALSCALE:GREGORIAN
METHOD:PUBLISH
X-ORIGINAL-URL:https://www.stichtingbehoudtrinitatiskapel.nl
X-WR-CALDESC:Evenementen voor Stichting Behoud Trinitatiskapel
REFRESH-INTERVAL;VALUE=DURATION:PT1H
X-Robots-Tag:noindex
X-PUBLISHED-TTL:PT1H
BEGIN:VTIMEZONE
TZID:Europe/Amsterdam
BEGIN:DAYLIGHT
TZOFFSETFROM:+0100
TZOFFSETTO:+0200
TZNAME:CEST
DTSTART:20240331T010000
END:DAYLIGHT
BEGIN:STANDARD
TZOFFSETFROM:+0200
TZOFFSETTO:+0100
TZNAME:CET
DTSTART:20241027T010000
END:STANDARD
BEGIN:DAYLIGHT
TZOFFSETFROM:+0100
TZOFFSETTO:+0200
TZNAME:CEST
DTSTART:20250330T010000
END:DAYLIGHT
BEGIN:STANDARD
TZOFFSETFROM:+0200
TZOFFSETTO:+0100
TZNAME:CET
DTSTART:20251026T010000
END:STANDARD
BEGIN:DAYLIGHT
TZOFFSETFROM:+0100
TZOFFSETTO:+0200
TZNAME:CEST
DTSTART:20260329T010000
END:DAYLIGHT
BEGIN:STANDARD
TZOFFSETFROM:+0200
TZOFFSETTO:+0100
TZNAME:CET
DTSTART:20261025T010000
END:STANDARD
END:VTIMEZONE
BEGIN:VEVENT
DTSTART;TZID=Europe/Amsterdam:20250905T200000
DTEND;TZID=Europe/Amsterdam:20250905T200000
DTSTAMP:20260424T132057
CREATED:20250706T100048Z
LAST-MODIFIED:20250806T182117Z
UID:3396-1757102400-1757102400@www.stichtingbehoudtrinitatiskapel.nl
SUMMARY:Kapelconcert - romantische pianomuziek - Jaap Eilander
DESCRIPTION:Op vrijdagavond 5 september klinkt er opnieuw prachtige muziek in de sfeervolle Trinitatiskapel tijdens een bijzonder kapelconcert\, waarbij pianomuziek centraal staat. De concertvleugel van de kapel wordt bespeeld door Jaap Eilander. \n\nBiografie Jaap Eilander\nJaap Eilander studeerde in 2009 af aan het ArtEZ Conservatorium in Enschede\, waar hij les kreeg van Mikhail Markov en Fred Oldenburg. Daarvoor volgde hij pianolessen bij Herman Riphagen en later bij Geoffrey Madge aan het Koninklijk Conservatorium in Den Haag. \nNaast zijn werk als concertpianist is hij actief als docent en arrangeur. \n\nProgramma\n\nJohann Sebastian Bach (1685-1750)\nIch ruf zu dir\, Herr Jesu Christ [BWV 639; voor orgel\, bewerking Ferruccio Busoni]\nPrelude und Fuge in c moll [BWV 847; uit Wohltemperierte Klavier I]\nJesu joy of man’s desiring [uit cantate BWV 147\, bewerking Jaap Eilander]\nSarabande & Gigue [uit Partita nr. 1\, BWV 825]\nPjotr I. Tschaikowsky (1840-1893)\nMéditation [uit 18 stukken opus 72]\nAntonín Dvořák (1841-1904)\nIntermezzo [uit 6 Klavierstücke\, opus 52]\nAm Heldengrabe [uit Poetische Stimmungsbilder\, opus 85]\nAm heiligen Berg [uit Poetische Stimmungsbilder\, opus 85]\nFrederic Chopin (1810-1849)\nPolonaise in cis [opus 26 nr. 1]\nMazurka in b [opus 33 nr. 4]\nImpromptu in As [opus 29 nr. 1]\nMazurka in a [opus 17 nr. 4]\nGrande Valse Brilliante in As [opus 34 nr. 1]
URL:https://www.stichtingbehoudtrinitatiskapel.nl/activiteit/kapelconcert-piano-jaap-eilander/
LOCATION:Trinitatiskapel\, Vriesestraat 22\, Dordrecht\, 3311 NR\, Nederland
CATEGORIES:concert,pianoconcert
ATTACH;FMTTYPE=image/jpeg:https://www.stichtingbehoudtrinitatiskapel.nl/wp-content/uploads/2025/07/jaap_eilander.jpg
END:VEVENT
BEGIN:VEVENT
DTSTART;TZID=Europe/Amsterdam:20250912T130000
DTEND;TZID=Europe/Amsterdam:20250912T130000
DTSTAMP:20260424T132057
CREATED:20250706T100048Z
LAST-MODIFIED:20250904T171211Z
UID:2733-1757682000-1757682000@www.stichtingbehoudtrinitatiskapel.nl
SUMMARY:Kapelconcert - orgel - Hans Okkerse
DESCRIPTION:Op vrijdagmiddag 12 september wordt weer een kapelconcert georganiseerd waarbij het Wolfferts-orgel centraal staat. \nHet orgel zal worden bespeeld door de Dordtse organist Hans Okkerse. \n\nBiografie Hans Okkerse\nHans Okkerse (1958) heeft schoolmuziek\, orgel (bij André Verwoerd) en piano (bij Frédéric Meinders) gestudeerd. Daarnaast heeft hij een hbo-studie theologie gedaan. Hij heeft in het voortgezet onderwijs gewerkt\, eerst als muziekdocent en later als docent godsdienst/levensbeschouwing. Verder is hij werkzaam als kerkorganist\, begeleider van koren en kamermusicus. \nProgramma\n\nJohann Pachelbel (1653-1706)\nAria Quarta uit Hexachordum Apollinis (thema met 6 variaties)\nGeorg Philipp Telemann (1681-1767)\nAria Quarta uit Hexachordum Apollinis [thema met 6 variaties]\nJohann Sebastian Bach (1685-1750)\nRicercar in c uit het Musikalisches Opfer [BWV 1079]\nKoraalbewerking over ‘Wenn wir in höchsten Nöten sein’ [BWV 641]\nKoraalbewerking over’ Ich ruf zu dir\, Herr Jesu Christ’ [BWV 639]\nFuga in g [BWV 578]
URL:https://www.stichtingbehoudtrinitatiskapel.nl/activiteit/kapelconcert-orgel-hans-okkerse/
LOCATION:Trinitatiskapel\, Vriesestraat 22\, Dordrecht\, 3311 NR\, Nederland
CATEGORIES:concert,orgelconcert
ATTACH;FMTTYPE=image/jpeg:https://www.stichtingbehoudtrinitatiskapel.nl/wp-content/uploads/2025/07/18-07-2015-Oosterhout-b.jpg
END:VEVENT
BEGIN:VEVENT
DTSTART;TZID=Europe/Amsterdam:20250913T130000
DTEND;TZID=Europe/Amsterdam:20250913T130000
DTSTAMP:20260424T132057
CREATED:20250727T100021Z
LAST-MODIFIED:20250727T173912Z
UID:3680-1757768400-1757768400@www.stichtingbehoudtrinitatiskapel.nl
SUMMARY:Open Monumentendag | Guido Nijs Kwintet
DESCRIPTION:Tijdens de Open Monumentendagen verzorgt het Guido Nijs Kwintet een muzikaal optreden in de kapel. \nDe muziek van saxofonist en componist Guido Nijs kenmerkt zich door een eigentijdse benadering van de klassieke straight ahead-stijl. Heldere\, aansprekende melodieën worden gecombineerd met subtiele\, sfeervolle improvisaties. Ingetogenheid\, nuance en eenvoud vormen de essentie van zijn tot de verbeelding sprekende composities. \nHet kwintet bestaat uit Guido Nes (saxofoon)\, Koen Smits (trompet en bugel)\, Jeroen van Vliet (piano)\, Eric van der Westen (contrabas) en Pascal Vermeer (drums).
URL:https://www.stichtingbehoudtrinitatiskapel.nl/activiteit/open-monumentendag-guido-nijs-kwintet/
LOCATION:Trinitatiskapel\, Vriesestraat 22\, Dordrecht\, 3311 NR\, Nederland
CATEGORIES:concert
ATTACH;FMTTYPE=image/jpeg:https://www.stichtingbehoudtrinitatiskapel.nl/wp-content/uploads/2025/05/gare-du-nord_308.jpg
END:VEVENT
BEGIN:VEVENT
DTSTART;TZID=Europe/Amsterdam:20250914T130000
DTEND;TZID=Europe/Amsterdam:20250914T130000
DTSTAMP:20260424T132057
CREATED:20250727T100021Z
LAST-MODIFIED:20250727T174929Z
UID:3683-1757854800-1757854800@www.stichtingbehoudtrinitatiskapel.nl
SUMMARY:Open Monumentendag | Susan Jane Rose
DESCRIPTION:Tijdens de Open Monumentendagen brengt zangeres en songwriter Susan Jane Rose een sfeervol muzikaal optreden in de kapel. \nMet haar sensitieve stem weet Susan Jane Rose het publiek diep te raken. Haar liederen ontspringen aan haar innerlijke belevingswereld en worden gedragen door een warme\, liefdevolle gitaarbegeleiding. De muziek is tegelijk kwetsbaar en krachtig\, een fluistering van de ziel\, gevangen in melodieën die blijven resoneren. \nSamen met gitarist Will Sophie ontstaat een bijzondere muzikale chemie. In hun samenspel vullen Susan en Will elkaar naadloos aan: ze bouwen een muzikaal verhaal vol nuance en wisselen vloeiend tussen verstilling\, groove en speelse improvisatie. De twee gitaren versmelten tot één klankkleur en nodigen de luisteraar uit tot verstilling\, ontspanning en beleving. \nMuziek van Susan Jane Rose hoor je niet alleen\, je ondergaat het.
URL:https://www.stichtingbehoudtrinitatiskapel.nl/activiteit/open-monumentendag-susan-jane-rose/
LOCATION:Trinitatiskapel\, Vriesestraat 22\, Dordrecht\, 3311 NR\, Nederland
CATEGORIES:concert
ATTACH;FMTTYPE=image/jpeg:https://www.stichtingbehoudtrinitatiskapel.nl/wp-content/uploads/2025/07/susan-jane-rose.jpeg
END:VEVENT
BEGIN:VEVENT
DTSTART;TZID=Europe/Amsterdam:20250919T200000
DTEND;TZID=Europe/Amsterdam:20250919T200000
DTSTAMP:20260424T132057
CREATED:20250706T100048Z
LAST-MODIFIED:20250706T153910Z
UID:3398-1758312000-1758312000@www.stichtingbehoudtrinitatiskapel.nl
SUMMARY:Kapelconcert - Marjolein de Wit en Mark Brandwijk
DESCRIPTION:Op vrijdag 19 september klinkt er opnieuw prachtige muziek in de sfeervolle Trinitatiskapel tijdens een bijzonder kapelconcert\, waarbij pianomuziek centraal staat. De concertvleugel van de kapel wordt bespeeld door Mark Brandwijk. Samen met dwarsfluitist Marjolein de Wit verzorgt hij een sfeervol en afwisselend programma. \n\nBiografie Marjolein de Wit\nMarjolein de Wit studeerde aan het Brabants Conservatorium in Tilburg\, waar ze cum laude afstudeerde. Marjolein treedt regelmatig op in binnen- en buitenland\, zowel solistisch als in kamermuziekverband. Naast haar concertpraktijk is ze actief als docent en geeft ze workshops en masterclasses. \n\nBiografie Mark Brandwijk\nMark Brandwijk is een veelzijdig Nederlands pianist\, organist\, componist en dirigent. Hij begon op jonge leeftijd met muzieklessen. Zijn pianostudie volgde hij onder meer bij Mirjam IJsseldijk\, Jan-Willem van Delft en Bert van den Brink.\nHij won diverse prijzen\, waaronder driemaal de wisselbeker van het Feike Asma-concours en de eerste prijs tijdens de Maassluise Muziekweek. \nAls pianist is hij actief als solist én als veelgevraagd begeleider van koren\, solisten en instrumentalisten. Ook componeert hij\, geeft hij concerten in binnen- en buitenland\, en werkt hij mee aan cd-opnames.
URL:https://www.stichtingbehoudtrinitatiskapel.nl/activiteit/kapelconcert-marjolein-de-wit-en-mark-brandwijk/
LOCATION:Trinitatiskapel\, Vriesestraat 22\, Dordrecht\, 3311 NR\, Nederland
CATEGORIES:concert,pianoconcert
ATTACH;FMTTYPE=image/jpeg:https://www.stichtingbehoudtrinitatiskapel.nl/wp-content/uploads/2024/02/vleugel.jpg
END:VEVENT
BEGIN:VEVENT
DTSTART;TZID=Europe/Amsterdam:20250926T130000
DTEND;TZID=Europe/Amsterdam:20250926T130000
DTSTAMP:20260424T132057
CREATED:20250706T100048Z
LAST-MODIFIED:20250807T174535Z
UID:3389-1758891600-1758891600@www.stichtingbehoudtrinitatiskapel.nl
SUMMARY:Kapelconcert - orgel - Andries Bogerd
DESCRIPTION:Op vrijdagmiddag 26 september klinkt er opnieuw prachtige muziek in de sfeervolle Trinitatiskapel tijdens een bijzonder kapelconcert. Centraal staat het historische Wolfferts-orgel – een unieke kans om dit karaktervolle instrument in volle glorie te beleven! \nDe jonge organist Andries Bogerd neemt plaats achter de klavieren en laat het orgel spreken in al zijn pracht en kracht. \n\nBiografie Andries Bogerd\nSinds 2021 studeert Andries Bogerd hoofdvak orgel bij Jos van der Kooy aan het Koninklijk Conservatorium in Den Haag. Daarnaast volgt hij pianolessen bij Wim Voogd en studeert hij kerkmuziek aan Codarts Hogeschool voor de Kunsten in Rotterdam. \nAls kerkmusicus is hij sinds het voorjaar van 2024 verbonden aan de Maranathakerk in Den Haag\, waar hij vaste bespeler is van het Mense Ruiter-orgel.
URL:https://www.stichtingbehoudtrinitatiskapel.nl/activiteit/kapelconcert-orgel-andries-bogerd/
LOCATION:Trinitatiskapel\, Vriesestraat 22\, Dordrecht\, 3311 NR\, Nederland
CATEGORIES:concert,orgelconcert
ATTACH;FMTTYPE=image/jpeg:https://www.stichtingbehoudtrinitatiskapel.nl/wp-content/uploads/2025/07/andriesbogerd.jpg
END:VEVENT
BEGIN:VEVENT
DTSTART;TZID=Europe/Amsterdam:20250926T203000
DTEND;TZID=Europe/Amsterdam:20250926T203000
DTSTAMP:20260424T132057
CREATED:20250825T090001Z
LAST-MODIFIED:20250905T093747Z
UID:3728-1758918600-1758918600@www.stichtingbehoudtrinitatiskapel.nl
SUMMARY:Kamermuziek | Duo Muller & Munnelly
DESCRIPTION:Duo Müller & Munnelly brengt diepgewortelde Ierse en Bretonse muziek in een persoonlijke\, karaktervolle stijl.\nIes Müller (houten dwarsfluiten) en David Munnelly (diatonisch accordeon en zang) vonden al op jonge leeftijd hun weg naar de folkmuziek\, elk vanuit een eigen achtergrond. Hun samenspel beweegt vrij tussen traditionele melodieën en improvisatie\, met een unieke en herkenbare muzikale signatuur. \nMiddle of Life\nMiddle of Life is het tweede album van Ies Müller en David Munnelly. De muziek ontstond aan de Ierse westkust en werd opgenomen in het Nederlandse rivierenland.\nTijdens dit concert presenteren zij het nieuwe werk: tijdloze muziek\, geboren uit een sprankelende muzikale dialoog die al jaren voortduurt en blijft groeien.\nKom luisteren en laat u meevoeren.
URL:https://www.stichtingbehoudtrinitatiskapel.nl/activiteit/kamermuziek-duo-muller-munnelly/
LOCATION:Trinitatiskapel\, Vriesestraat 22\, Dordrecht\, 3311 NR\, Nederland
CATEGORIES:concert
ATTACH;FMTTYPE=image/jpeg:https://www.stichtingbehoudtrinitatiskapel.nl/wp-content/uploads/2025/08/Duo-Muller-Munnelly.jpg
ORGANIZER;CN="Kamermuziek Dordrecht":MAILTO:contact@kamermuziekdordrecht.nl
END:VEVENT
END:VCALENDAR