BEGIN:VCALENDAR
VERSION:2.0
PRODID:-//Stichting Behoud Trinitatiskapel - ECPv6.15.20//NONSGML v1.0//EN
CALSCALE:GREGORIAN
METHOD:PUBLISH
X-ORIGINAL-URL:https://www.stichtingbehoudtrinitatiskapel.nl
X-WR-CALDESC:Evenementen voor Stichting Behoud Trinitatiskapel
REFRESH-INTERVAL;VALUE=DURATION:PT1H
X-Robots-Tag:noindex
X-PUBLISHED-TTL:PT1H
BEGIN:VTIMEZONE
TZID:Europe/Amsterdam
BEGIN:DAYLIGHT
TZOFFSETFROM:+0100
TZOFFSETTO:+0200
TZNAME:CEST
DTSTART:20240331T010000
END:DAYLIGHT
BEGIN:STANDARD
TZOFFSETFROM:+0200
TZOFFSETTO:+0100
TZNAME:CET
DTSTART:20241027T010000
END:STANDARD
BEGIN:DAYLIGHT
TZOFFSETFROM:+0100
TZOFFSETTO:+0200
TZNAME:CEST
DTSTART:20250330T010000
END:DAYLIGHT
BEGIN:STANDARD
TZOFFSETFROM:+0200
TZOFFSETTO:+0100
TZNAME:CET
DTSTART:20251026T010000
END:STANDARD
BEGIN:DAYLIGHT
TZOFFSETFROM:+0100
TZOFFSETTO:+0200
TZNAME:CEST
DTSTART:20260329T010000
END:DAYLIGHT
BEGIN:STANDARD
TZOFFSETFROM:+0200
TZOFFSETTO:+0100
TZNAME:CET
DTSTART:20261025T010000
END:STANDARD
BEGIN:DAYLIGHT
TZOFFSETFROM:+0100
TZOFFSETTO:+0200
TZNAME:CEST
DTSTART:20270328T010000
END:DAYLIGHT
BEGIN:STANDARD
TZOFFSETFROM:+0200
TZOFFSETTO:+0100
TZNAME:CET
DTSTART:20271031T010000
END:STANDARD
END:VTIMEZONE
BEGIN:VEVENT
DTSTART;TZID=Europe/Amsterdam:20250606T200000
DTEND;TZID=Europe/Amsterdam:20250606T200000
DTSTAMP:20260424T183315
CREATED:20250515T100021Z
LAST-MODIFIED:20250529T094740Z
UID:3336-1749240000-1749240000@www.stichtingbehoudtrinitatiskapel.nl
SUMMARY:Concert | Cantate Domino
DESCRIPTION:Op vrijdag 6 juni vindt het presentatieconcert van kamerkoor Cantate Domino plaats. Het koor staat onder leiding van Matthijs Hoogendijk. Tijdens deze avond wordt het koor begeleid door Gerben van Mourik (orgel) en Alisa van Dijk (viool). \nOp het programma staan stukken van Brahms\, Distler\, Maunder\, Mendelssohn\, Purcell\, Reger en Wesley. \nDe toegang is vrij\, bij de uitgang is er wel een collecte ter bestrijding van de onkosten.
URL:https://www.stichtingbehoudtrinitatiskapel.nl/activiteit/concert-cantate-domino/
LOCATION:Trinitatiskapel\, Vriesestraat 22\, Dordrecht\, 3311 NR\, Nederland
CATEGORIES:concert
ATTACH;FMTTYPE=image/jpeg:https://www.stichtingbehoudtrinitatiskapel.nl/wp-content/uploads/2025/05/cantate-domino.jpg
END:VEVENT
BEGIN:VEVENT
DTSTART;VALUE=DATE:20250607
DTEND;VALUE=DATE:20250608
DTSTAMP:20260424T183315
CREATED:20250601T084808Z
LAST-MODIFIED:20250607T085257Z
UID:3342-1749254400-1749340799@www.stichtingbehoudtrinitatiskapel.nl
SUMMARY:Cultuur op de Hoek
DESCRIPTION:Op zaterdag 7 juni 2025 vindt het Festival Cultuur op de Hoek plaats. Dordtse amateur-kunstverenigingen krijgen die dag een podium in de binnenstad. Er zijn optredens\, workshops en een expositie. Een mooie manier om kennis te maken met de vele verenigingen die Dordrecht rijk is. \nIn de Trinitatiskapel is er een grote variatie aan koren te horen: Koor Everlasting\, Vocal Group Different Voices\, Vocal Group Route Sixteen en het Toonkunstkoor. Daarnaast speel theatergezelschap Inter Amicos een scene en treden de muzikanten van het Dordts Accordeoncentrum op. \nMeer informatie over dit festival vindt u op de website InDordrecht.
URL:https://www.stichtingbehoudtrinitatiskapel.nl/activiteit/cultuur-op-de-hoek/
LOCATION:Trinitatiskapel\, Vriesestraat 22\, Dordrecht\, 3311 NR\, Nederland
CATEGORIES:festival
ATTACH;FMTTYPE=image/jpeg:https://www.stichtingbehoudtrinitatiskapel.nl/wp-content/uploads/2023/04/cultuuropdehoek.jpg
END:VEVENT
BEGIN:VEVENT
DTSTART;TZID=Europe/Amsterdam:20260326T200000
DTEND;TZID=Europe/Amsterdam:20260326T200000
DTSTAMP:20260424T183315
CREATED:20250430T220017Z
LAST-MODIFIED:20260308T111021Z
UID:3826-1774555200-1774555200@www.stichtingbehoudtrinitatiskapel.nl
SUMMARY:Oud-Dordrecht | Dordtse huizen in de periode 13e tot 17e eeuw
DESCRIPTION:’t Zeepaert staat bekend als een van de oudste woonhuizen van Dordrecht. Inmiddels is duidelijk dat zich achter modernere gevels vaak nog veel oudere huizen bevinden. Zo bevat Voorstraat 252 balken uit 1350 en spaarnissen in de muren. Voorstraat 106 heeft een imposante gevel uit 1771\, maar beschikt over een houtconstructie en kaarsnissen uit 1346. Maar hoe zag een huis er in de veertiende eeuw eigenlijk uit? En hoe zijn bouwsporen te lezen die daar iets over kunnen vertellen? \nChristine Weijs\, bouwhistoricus van de gemeente Dordrecht\, neemt op 26 maart bezoekers mee door de gebouwde geschiedenis van de stad. Aan de hand van verschillende Dordtse panden laat zij zien hoe in de middeleeuwen werd gebouwd en hoe deze huizen er destijds uitzagen.
URL:https://www.stichtingbehoudtrinitatiskapel.nl/activiteit/oud-dordrecht-dordtse-huizen-in-de-periode-13e-tot-17e-eeuw/
LOCATION:Trinitatiskapel\, Vriesestraat 22\, Dordrecht\, 3311 NR\, Nederland
CATEGORIES:vergadering
ATTACH;FMTTYPE=image/png:https://www.stichtingbehoudtrinitatiskapel.nl/wp-content/uploads/2023/02/Oud_Dordrecht_LOGOzonder-125-lowres.png
ORGANIZER;CN="Vereniging Oud-Dordrecht":MAILTO:info@oud-dordrecht.nl
END:VEVENT
BEGIN:VEVENT
DTSTART;TZID=Europe/Amsterdam:20250626T200000
DTEND;TZID=Europe/Amsterdam:20250626T200000
DTSTAMP:20260424T183315
CREATED:20250430T220017Z
LAST-MODIFIED:20250529T095820Z
UID:3339-1750968000-1750968000@www.stichtingbehoudtrinitatiskapel.nl
SUMMARY:Oud-Dordrecht | Dordts zilver
DESCRIPTION:Op 26 juni verzorgt de Vereniging Oud-Dordrecht een lezing. Het thema van de lezing is ‘Dordts zilver’. \nHans Breet is een enthousiast verzamelaar van Dordts zilver. Ook heeft hij een aantal artikelen hierover gepubliceerd. \nHij verzorgt er op deze avond een lezing over.
URL:https://www.stichtingbehoudtrinitatiskapel.nl/activiteit/oud-dordrecht-dordts-zilver/
LOCATION:Trinitatiskapel\, Vriesestraat 22\, Dordrecht\, 3311 NR\, Nederland
CATEGORIES:vergadering
ATTACH;FMTTYPE=image/png:https://www.stichtingbehoudtrinitatiskapel.nl/wp-content/uploads/2023/02/Oud_Dordrecht_LOGOzonder-125-lowres.png
ORGANIZER;CN="Vereniging Oud-Dordrecht":MAILTO:info@oud-dordrecht.nl
END:VEVENT
BEGIN:VEVENT
DTSTART;TZID=Europe/Amsterdam:20250629T150000
DTEND;TZID=Europe/Amsterdam:20250629T163000
DTSTAMP:20260424T183315
CREATED:20250415T100048Z
LAST-MODIFIED:20260322T141843Z
UID:3847-1751209200-1751214600@www.stichtingbehoudtrinitatiskapel.nl
SUMMARY:Processie Heilig Hout
DESCRIPTION:Op zondag 29 juni zal opnieuw de Heilig Hout Processie door de binnenstad van Dordrecht worden gelopen\, met een bijzondere reliek: splinters van het Kruis van Jezus. De route zal lopen van de Grote Kerk naar de Antoniuskerk\, met onderweg haltes bij de Trinitatiskapel en de Wilhelminakerk. Daarmee krijgt de processie opnieuw een duidelijk oecumenisch karakter. \n\n\n\n\n\n\n\nDe processie begint om 15.00 uur met een korte gebedsdienst in de Grote Kerk aan de Lange Geldersekade. Aansluitend vertrekt de stoet richting de Antoniuskerk aan de Burgemeester De Raadtsingel\, waar wordt afgesloten met een plechtige lofdienst.
URL:https://www.stichtingbehoudtrinitatiskapel.nl/activiteit/processie-heilig-hout-2025/
LOCATION:Trinitatiskapel\, Vriesestraat 22\, Dordrecht\, 3311 NR\, Nederland
CATEGORIES:diversen
ATTACH;FMTTYPE=image/jpeg:https://www.stichtingbehoudtrinitatiskapel.nl/wp-content/uploads/2023/06/heilig-hout.jpg
END:VEVENT
END:VCALENDAR