BEGIN:VCALENDAR
VERSION:2.0
PRODID:-//Stichting Behoud Trinitatiskapel - ECPv6.15.20//NONSGML v1.0//EN
CALSCALE:GREGORIAN
METHOD:PUBLISH
X-ORIGINAL-URL:https://www.stichtingbehoudtrinitatiskapel.nl
X-WR-CALDESC:Evenementen voor Stichting Behoud Trinitatiskapel
REFRESH-INTERVAL;VALUE=DURATION:PT1H
X-Robots-Tag:noindex
X-PUBLISHED-TTL:PT1H
BEGIN:VTIMEZONE
TZID:Europe/Amsterdam
BEGIN:DAYLIGHT
TZOFFSETFROM:+0100
TZOFFSETTO:+0200
TZNAME:CEST
DTSTART:20240331T010000
END:DAYLIGHT
BEGIN:STANDARD
TZOFFSETFROM:+0200
TZOFFSETTO:+0100
TZNAME:CET
DTSTART:20241027T010000
END:STANDARD
BEGIN:DAYLIGHT
TZOFFSETFROM:+0100
TZOFFSETTO:+0200
TZNAME:CEST
DTSTART:20250330T010000
END:DAYLIGHT
BEGIN:STANDARD
TZOFFSETFROM:+0200
TZOFFSETTO:+0100
TZNAME:CET
DTSTART:20251026T010000
END:STANDARD
BEGIN:DAYLIGHT
TZOFFSETFROM:+0100
TZOFFSETTO:+0200
TZNAME:CEST
DTSTART:20260329T010000
END:DAYLIGHT
BEGIN:STANDARD
TZOFFSETFROM:+0200
TZOFFSETTO:+0100
TZNAME:CET
DTSTART:20261025T010000
END:STANDARD
END:VTIMEZONE
BEGIN:VEVENT
DTSTART;TZID=Europe/Amsterdam:20250501T200000
DTEND;TZID=Europe/Amsterdam:20250501T200000
DTSTAMP:20260424T202610
CREATED:20250331T220017Z
LAST-MODIFIED:20250502T072324Z
UID:3326-1746129600-1746129600@www.stichtingbehoudtrinitatiskapel.nl
SUMMARY:Oud-Dordrecht | Jonge vrouwen in bezettingstijd
DESCRIPTION:Op 1 mei organiseert de Vereniging Oud-Dordrecht een lezing. Het thema van de lezing is ‘Jonge vrouwen in bezettingstijd’. \nVerschillende scholieren en jonge vrouwen zijn zeer moedig geweest tijdens de bezettingsjaren 1940-1945. Diet Barendregt (Dietje Kloos) en Lenie Dicke zijn de bekendste Dordtenaren. \nSaskia Lensink en Peter Barendregt verzorgen deze avond.
URL:https://www.stichtingbehoudtrinitatiskapel.nl/activiteit/oud-dordrecht-jonge-vrouwen-in-bezettingstijd/
LOCATION:Trinitatiskapel\, Vriesestraat 22\, Dordrecht\, 3311 NR\, Nederland
CATEGORIES:vergadering
ATTACH;FMTTYPE=image/png:https://www.stichtingbehoudtrinitatiskapel.nl/wp-content/uploads/2023/02/Oud_Dordrecht_LOGOzonder-125-lowres.png
ORGANIZER;CN="Vereniging Oud-Dordrecht":MAILTO:info@oud-dordrecht.nl
END:VEVENT
BEGIN:VEVENT
DTSTART;TZID=Europe/Amsterdam:20250511T150000
DTEND;TZID=Europe/Amsterdam:20250511T150000
DTSTAMP:20260424T202610
CREATED:20250501T100021Z
LAST-MODIFIED:20250505T202334Z
UID:3329-1746975600-1746975600@www.stichtingbehoudtrinitatiskapel.nl
SUMMARY:Concert | Bicolore
DESCRIPTION:Op zondag 11 mei verzorgen Laura Hölzenspies (piano\, klavecimbel\, orgel) en Sonja Gruys (mezzosopraan\, blokfluit) een liedrecital. Hölzenspies en Gruys vormen het geruime tijd het muzikaal duo Bicolore.
URL:https://www.stichtingbehoudtrinitatiskapel.nl/activiteit/concert-bicolore/
LOCATION:Trinitatiskapel\, Vriesestraat 22\, Dordrecht\, 3311 NR\, Nederland
CATEGORIES:concert
ATTACH;FMTTYPE=image/webp:https://www.stichtingbehoudtrinitatiskapel.nl/wp-content/uploads/2025/02/bicolore.png.webp
END:VEVENT
BEGIN:VEVENT
DTSTART;TZID=Europe/Amsterdam:20250524T183000
DTEND;TZID=Europe/Amsterdam:20250524T183000
DTSTAMP:20260424T202610
CREATED:20250501T100021Z
LAST-MODIFIED:20250507T173210Z
UID:3332-1748111400-1748111400@www.stichtingbehoudtrinitatiskapel.nl
SUMMARY:Cacao & Singing Ceremony
DESCRIPTION:Op zaterdag 11 mei kun je de Trinitatiskapel binnenstappen en een magische avond beleven waarin je volledig jezelf kunt zijn tijdens onze Heart opening Cacao & Singing Ceremony. \nDe avond begint met het drinken van ceremoniële cacao\, een mooi ritueel dat het hart opent en je in contact kan brengen met dieper gelegen gevoelens.  Vervolgens wordt je meegevoerd door de betoverende klanken. \nOp de website van de organisator kun je kaarten reserveren.
URL:https://www.stichtingbehoudtrinitatiskapel.nl/activiteit/cacao-singing-ceremony/
LOCATION:Trinitatiskapel\, Vriesestraat 22\, Dordrecht\, 3311 NR\, Nederland
CATEGORIES:diversen
ATTACH;FMTTYPE=image/jpeg:https://www.stichtingbehoudtrinitatiskapel.nl/wp-content/uploads/2025/05/Unite-Inside.jpg
END:VEVENT
END:VCALENDAR