BEGIN:VCALENDAR
VERSION:2.0
PRODID:-//Stichting Behoud Trinitatiskapel - ECPv6.15.20//NONSGML v1.0//EN
CALSCALE:GREGORIAN
METHOD:PUBLISH
X-WR-CALNAME:Stichting Behoud Trinitatiskapel
X-ORIGINAL-URL:https://www.stichtingbehoudtrinitatiskapel.nl
X-WR-CALDESC:Evenementen voor Stichting Behoud Trinitatiskapel
REFRESH-INTERVAL;VALUE=DURATION:PT1H
X-Robots-Tag:noindex
X-PUBLISHED-TTL:PT1H
BEGIN:VTIMEZONE
TZID:Europe/Amsterdam
BEGIN:DAYLIGHT
TZOFFSETFROM:+0100
TZOFFSETTO:+0200
TZNAME:CEST
DTSTART:20240331T010000
END:DAYLIGHT
BEGIN:STANDARD
TZOFFSETFROM:+0200
TZOFFSETTO:+0100
TZNAME:CET
DTSTART:20241027T010000
END:STANDARD
BEGIN:DAYLIGHT
TZOFFSETFROM:+0100
TZOFFSETTO:+0200
TZNAME:CEST
DTSTART:20250330T010000
END:DAYLIGHT
BEGIN:STANDARD
TZOFFSETFROM:+0200
TZOFFSETTO:+0100
TZNAME:CET
DTSTART:20251026T010000
END:STANDARD
BEGIN:DAYLIGHT
TZOFFSETFROM:+0100
TZOFFSETTO:+0200
TZNAME:CEST
DTSTART:20260329T010000
END:DAYLIGHT
BEGIN:STANDARD
TZOFFSETFROM:+0200
TZOFFSETTO:+0100
TZNAME:CET
DTSTART:20261025T010000
END:STANDARD
END:VTIMEZONE
BEGIN:VEVENT
DTSTART;TZID=Europe/Amsterdam:20250419T201500
DTEND;TZID=Europe/Amsterdam:20250419T201500
DTSTAMP:20260424T221317
CREATED:20250210T110021Z
LAST-MODIFIED:20250412T091407Z
UID:3318-1745093700-1745093700@www.stichtingbehoudtrinitatiskapel.nl
SUMMARY:Benefietconcert | het Nieuw Terremoto Kwartet
DESCRIPTION:De door de evangelisten Lucas\, Johannes en Mattheus overgeleverde zeven laatste woorden van Christus aan het kruis hebben Haydn tot een orkestwerk geïnspireerd dat hij later voor strijkkwartet arrangeerde.\nDit werk wordt door het Nieuw Terremoto Kwartet uitgevoerd op 19 april\, stille zaterdag. \nDe muziek wordt afgewisseld met gedichten van de Vlaamse Dichter des Vaderlands\, Els Moor. Ook deze gedichten zijn geinspireerd op de zeven kruiswoorden. \nDe toegang is gratis maar de alle bijdragen in de ‘hoed’ gaan naar de Stichting tot Beheer en Behoud van de Trinitatiskapel te Dordrecht. De opbrengst zal worden gebruikt voor de restauratie van de ramen van de kapel.
URL:https://www.stichtingbehoudtrinitatiskapel.nl/activiteit/benefietconcert-het-terremoto-kwartet/
LOCATION:Trinitatiskapel\, Vriesestraat 22\, Dordrecht\, 3311 NR\, Nederland
CATEGORIES:concert
ATTACH;FMTTYPE=image/jpeg:https://www.stichtingbehoudtrinitatiskapel.nl/wp-content/uploads/2025/02/Stille-zaterdag-terremoto-kwartet-haydn.jpg
END:VEVENT
END:VCALENDAR