BEGIN:VCALENDAR
VERSION:2.0
PRODID:-//Stichting Behoud Trinitatiskapel - ECPv6.15.20//NONSGML v1.0//EN
CALSCALE:GREGORIAN
METHOD:PUBLISH
X-WR-CALNAME:Stichting Behoud Trinitatiskapel
X-ORIGINAL-URL:https://www.stichtingbehoudtrinitatiskapel.nl
X-WR-CALDESC:Evenementen voor Stichting Behoud Trinitatiskapel
REFRESH-INTERVAL;VALUE=DURATION:PT1H
X-Robots-Tag:noindex
X-PUBLISHED-TTL:PT1H
BEGIN:VTIMEZONE
TZID:Europe/Amsterdam
BEGIN:DAYLIGHT
TZOFFSETFROM:+0100
TZOFFSETTO:+0200
TZNAME:CEST
DTSTART:20230326T010000
END:DAYLIGHT
BEGIN:STANDARD
TZOFFSETFROM:+0200
TZOFFSETTO:+0100
TZNAME:CET
DTSTART:20231029T010000
END:STANDARD
BEGIN:DAYLIGHT
TZOFFSETFROM:+0100
TZOFFSETTO:+0200
TZNAME:CEST
DTSTART:20240331T010000
END:DAYLIGHT
BEGIN:STANDARD
TZOFFSETFROM:+0200
TZOFFSETTO:+0100
TZNAME:CET
DTSTART:20241027T010000
END:STANDARD
BEGIN:DAYLIGHT
TZOFFSETFROM:+0100
TZOFFSETTO:+0200
TZNAME:CEST
DTSTART:20250330T010000
END:DAYLIGHT
BEGIN:STANDARD
TZOFFSETFROM:+0200
TZOFFSETTO:+0100
TZNAME:CET
DTSTART:20251026T010000
END:STANDARD
END:VTIMEZONE
BEGIN:VEVENT
DTSTART;TZID=Europe/Amsterdam:20241212T200000
DTEND;TZID=Europe/Amsterdam:20241212T200000
DTSTAMP:20260425T052331
CREATED:20241001T100034Z
LAST-MODIFIED:20250222T115233Z
UID:3278-1734033600-1734033600@www.stichtingbehoudtrinitatiskapel.nl
SUMMARY:Filosofisch Cafe | Justice for Animals
DESCRIPTION:Op donderdag 12 december organiseert het Filosofisch Café een bijeenkomst in de Kosterij met als thema ‘Justice for Animals’. \nBij het Filosofisch Café wordt nagedacht over belangrijke en diepe vragen. Niet om een pasklaar antwoord te krijgen\, maar om samen na te denken en te leren.\nDe bijeenkomsten zijn vrij toegankelijk.
URL:https://www.stichtingbehoudtrinitatiskapel.nl/activiteit/filosofisch-cafe-justice-for-animals/
LOCATION:In de Kosterij\, Vriesestraat 20\, Dordrecht\, 3311 NR
CATEGORIES:diversen
ATTACH;FMTTYPE=image/jpeg:https://www.stichtingbehoudtrinitatiskapel.nl/wp-content/uploads/2023/10/aristoteles.jpg
ORGANIZER;CN="Filosofisch Caf%C3%A9 Dordrecht":MAILTO:info@filosofischcafedordrecht.nl
END:VEVENT
BEGIN:VEVENT
DTSTART;TZID=Europe/Amsterdam:20241213T200000
DTEND;TZID=Europe/Amsterdam:20241213T200000
DTSTAMP:20260425T052331
CREATED:20241009T220048Z
LAST-MODIFIED:20241119T183906Z
UID:3225-1734120000-1734120000@www.stichtingbehoudtrinitatiskapel.nl
SUMMARY:Wandern X-mas Concert
DESCRIPTION:Op vrijdag 13 december wordt door de Stichting Favola in Musica  een Wandern-Xmas Concert georganiseerd. \nEen concert met twee topartiesten: pianist/componist Egbert Derix en gerenommeerd bass-bariton en multi-instrumentalist Huub Claessens. Claessens zingt maar speelt ook altsaxofoon\, sopraansaxofoon en flugelhorn. \nHet eerste gedeelte van het concert staat in het teken van de liedcyclus ‘Wandern’ van Egbert Derix. Deze cyclus staat in het teken van de muzikale reis en de spirituele zoektocht van de mens.\nNa de pauze kunt u genieten van jazz standards en kerstliederen\, die op authentieke wijze door Derix en Claessens vertolkt zullen worden. \nU kunt kaarten voor dit bijzondere concert per mail reserveren.
URL:https://www.stichtingbehoudtrinitatiskapel.nl/activiteit/wandern-x-mas-concert/
LOCATION:Trinitatiskapel\, Vriesestraat 22\, Dordrecht\, 3311 NR\, Nederland
CATEGORIES:concert
ATTACH;FMTTYPE=image/jpeg:https://www.stichtingbehoudtrinitatiskapel.nl/wp-content/uploads/2024/10/wandernxmasconcert.jpg
END:VEVENT
BEGIN:VEVENT
DTSTART;TZID=Europe/Amsterdam:20241214T130000
DTEND;TZID=Europe/Amsterdam:20241214T130000
DTSTAMP:20260425T052331
CREATED:20241202T220010Z
LAST-MODIFIED:20241208T200020Z
UID:3244-1734181200-1734181200@www.stichtingbehoudtrinitatiskapel.nl
SUMMARY:Diff'rent Voices | Het meisje met de zwavelstokjes
DESCRIPTION:Op 14 december brengt vocal group Different Voices vier keer een kerstvoorstelling ‘Het meisje met de zwavelstokjes. \nDe voorstelling is te beluisteren om 13.00\, 14.00\, 15.00 en 16.00 uur. Toegang is gratis\, er is wel mogelijkheid een gift te geven. De helft van de opbrengst wordt bestemd aan de renovatie van de Trinitatiskapel.
URL:https://www.stichtingbehoudtrinitatiskapel.nl/activiteit/diffrent-voices-het-meisje-met-de-zwavelstokjes-2024/
LOCATION:Trinitatiskapel\, Vriesestraat 22\, Dordrecht\, 3311 NR\, Nederland
CATEGORIES:concert
ATTACH;FMTTYPE=image/jpeg:https://www.stichtingbehoudtrinitatiskapel.nl/wp-content/uploads/2024/12/zwavelstokjes_2024.jpeg
END:VEVENT
BEGIN:VEVENT
DTSTART;TZID=Europe/Amsterdam:20241214T130000
DTEND;TZID=Europe/Amsterdam:20241214T130000
DTSTAMP:20260425T052331
CREATED:20251202T220010Z
LAST-MODIFIED:20251213T150255Z
UID:3808-1734181200-1734181200@www.stichtingbehoudtrinitatiskapel.nl
SUMMARY:Diff'rent Voices | Het meisje met de zwavelstokjes
DESCRIPTION:Op 13 december brengt vocal group Different Voices vier keer de kerstproductie ‘Het meisje met de zwavelstokjes’. \nDe voorstelling is te beluisteren om 13.00\, 14.00\, 15.00 en 16.00 uur. De toegang is gratis; er is wel de mogelijkheid om een gift te geven. De helft van de opbrengst gaat naar Stichting Het Vergeten Kind\, die zich inzet voor kinderen in problematische thuissituaties.
URL:https://www.stichtingbehoudtrinitatiskapel.nl/activiteit/diffrent-voices-het-meisje-met-de-zwavelstokjes-2025/
LOCATION:Trinitatiskapel\, Vriesestraat 22\, Dordrecht\, 3311 NR\, Nederland
CATEGORIES:concert
ATTACH;FMTTYPE=image/jpeg:https://www.stichtingbehoudtrinitatiskapel.nl/wp-content/uploads/2024/12/diffrent-voices-2025.jpg
END:VEVENT
BEGIN:VEVENT
DTSTART;TZID=Europe/Amsterdam:20241214T193000
DTEND;TZID=Europe/Amsterdam:20241214T193000
DTSTAMP:20260425T052331
CREATED:20241129T230048Z
LAST-MODIFIED:20241207T092110Z
UID:3253-1734204600-1734204600@www.stichtingbehoudtrinitatiskapel.nl
SUMMARY:The Blessing of Christmas | Close Singers Ensemble
DESCRIPTION:Zaterdagavond 14 december is het Close Singers Ensemble te beluisteren in de kapel. Het ensemble heeft een gevarieerd programma samengesteld\, met als thema ’the Blessing of Christmas’. \nToegang tot het concert is vrij. Er is wel een collecte bij de uitgang.
URL:https://www.stichtingbehoudtrinitatiskapel.nl/activiteit/the-blessing-of-christmas-close-singers-ensemble/
LOCATION:Trinitatiskapel\, Vriesestraat 22\, Dordrecht\, 3311 NR\, Nederland
CATEGORIES:concert
ATTACH;FMTTYPE=image/jpeg:https://www.stichtingbehoudtrinitatiskapel.nl/wp-content/uploads/2024/10/close-singers-ensemble.jpg
END:VEVENT
BEGIN:VEVENT
DTSTART;TZID=Europe/Amsterdam:20241220T193000
DTEND;TZID=Europe/Amsterdam:20241220T193000
DTSTAMP:20260425T052331
CREATED:20241130T110048Z
LAST-MODIFIED:20241208T201351Z
UID:3261-1734723000-1734723000@www.stichtingbehoudtrinitatiskapel.nl
SUMMARY:Kerstconcert | Close4You
DESCRIPTION:Op vrijdagavond 20 december geeft Close4You weer een kerstconcert in de sfeervolle kapel.\nDe begeleiding wordt verzorgd door Yuliya Khakhlova. De muzikale leiding is in handen van Jolanda Maas. \nKaartverkoop is mogelijk via de mail.
URL:https://www.stichtingbehoudtrinitatiskapel.nl/activiteit/kerstconcert-close4you/
LOCATION:Trinitatiskapel\, Vriesestraat 22\, Dordrecht\, 3311 NR\, Nederland
CATEGORIES:concert
ATTACH;FMTTYPE=image/jpeg:https://www.stichtingbehoudtrinitatiskapel.nl/wp-content/uploads/2024/11/close4you.jpg
END:VEVENT
BEGIN:VEVENT
DTSTART;TZID=Europe/Amsterdam:20241221T200000
DTEND;TZID=Europe/Amsterdam:20241221T200000
DTSTAMP:20260425T052331
CREATED:20241130T110048Z
LAST-MODIFIED:20241207T093447Z
UID:3256-1734811200-1734811200@www.stichtingbehoudtrinitatiskapel.nl
SUMMARY:Kerstconcert | Orpheus ensemble
DESCRIPTION:Op zaterdagavond 21 december en op zondagmiddag 22 december hoopt  het Orpheus Ensemble u met een bijzonder concert in een feestelijk kerststemming hopen te brengen. Medewerking zal worden verleend door Leon van Liere. De begeleiding wordt verzorgd door Jeroen Liedorp. De muzikale leiding is in handen van Caecilia Boschman. \nKaartverkoop is mogelijk via de website van het Orpheus Ensemble.
URL:https://www.stichtingbehoudtrinitatiskapel.nl/activiteit/kerstconcert-orpheus-ensemble-2024/
LOCATION:Trinitatiskapel\, Vriesestraat 22\, Dordrecht\, 3311 NR\, Nederland
CATEGORIES:concert
ATTACH;FMTTYPE=image/jpeg:https://www.stichtingbehoudtrinitatiskapel.nl/wp-content/uploads/2023/08/orpheus-ensemble.jpg
END:VEVENT
BEGIN:VEVENT
DTSTART;TZID=Europe/Amsterdam:20241222T143000
DTEND;TZID=Europe/Amsterdam:20241222T143000
DTSTAMP:20260425T052331
CREATED:20241130T110048Z
LAST-MODIFIED:20241207T093638Z
UID:3259-1734877800-1734877800@www.stichtingbehoudtrinitatiskapel.nl
SUMMARY:Kerstconcert | Orpheus ensemble
DESCRIPTION:Op zaterdagavond 21 december en op zondagmiddag 22 december hoopt het Orpheus Ensemble u met een bijzonder concert in een feestelijk kerststemming hopen te brengen. Medewerking zal worden verleend door Leon van Liere. De begeleiding wordt verzorgd door Jeroen Liedorp. De muzikale leiding is in handen van Caecilia Boschman. \nKaartverkoop is mogelijk via de website van het Orpheus Ensemble.
URL:https://www.stichtingbehoudtrinitatiskapel.nl/activiteit/kerstconcert-orpheus-ensemble-2024-2/
LOCATION:Trinitatiskapel\, Vriesestraat 22\, Dordrecht\, 3311 NR\, Nederland
CATEGORIES:concert
ATTACH;FMTTYPE=image/jpeg:https://www.stichtingbehoudtrinitatiskapel.nl/wp-content/uploads/2023/08/orpheus-ensemble.jpg
END:VEVENT
END:VCALENDAR