BEGIN:VCALENDAR
VERSION:2.0
PRODID:-//Stichting Behoud Trinitatiskapel - ECPv6.15.20//NONSGML v1.0//EN
CALSCALE:GREGORIAN
METHOD:PUBLISH
X-ORIGINAL-URL:https://www.stichtingbehoudtrinitatiskapel.nl
X-WR-CALDESC:Evenementen voor Stichting Behoud Trinitatiskapel
REFRESH-INTERVAL;VALUE=DURATION:PT1H
X-Robots-Tag:noindex
X-PUBLISHED-TTL:PT1H
BEGIN:VTIMEZONE
TZID:Europe/Amsterdam
BEGIN:DAYLIGHT
TZOFFSETFROM:+0100
TZOFFSETTO:+0200
TZNAME:CEST
DTSTART:20230326T010000
END:DAYLIGHT
BEGIN:STANDARD
TZOFFSETFROM:+0200
TZOFFSETTO:+0100
TZNAME:CET
DTSTART:20231029T010000
END:STANDARD
BEGIN:DAYLIGHT
TZOFFSETFROM:+0100
TZOFFSETTO:+0200
TZNAME:CEST
DTSTART:20240331T010000
END:DAYLIGHT
BEGIN:STANDARD
TZOFFSETFROM:+0200
TZOFFSETTO:+0100
TZNAME:CET
DTSTART:20241027T010000
END:STANDARD
BEGIN:DAYLIGHT
TZOFFSETFROM:+0100
TZOFFSETTO:+0200
TZNAME:CEST
DTSTART:20250330T010000
END:DAYLIGHT
BEGIN:STANDARD
TZOFFSETFROM:+0200
TZOFFSETTO:+0100
TZNAME:CET
DTSTART:20251026T010000
END:STANDARD
END:VTIMEZONE
BEGIN:VEVENT
DTSTART;TZID=Europe/Amsterdam:20240720T193000
DTEND;TZID=Europe/Amsterdam:20240720T193000
DTSTAMP:20260425T133605
CREATED:20240701T100034Z
LAST-MODIFIED:20240727T114611Z
UID:3174-1721503800-1721503800@www.stichtingbehoudtrinitatiskapel.nl
SUMMARY:Zomerconcerten Dordrecht | Damsco String Quartet
DESCRIPTION:Ook in 2024 wordt een zomerconcertserie georganiseerd. Kamermuziek met veelal een bijzondere rol voor de altviool in diverse vormen is te horen in de Trinitatiskapel. \n  \nMeer informatie vindt u op de website van de Zomerconcertserie.
URL:https://www.stichtingbehoudtrinitatiskapel.nl/activiteit/zomerconcerten-dordrecht-damsco-string-quartet/
LOCATION:Trinitatiskapel\, Vriesestraat 22\, Dordrecht\, 3311 NR\, Nederland
CATEGORIES:concert
ATTACH;FMTTYPE=image/jpeg:https://www.stichtingbehoudtrinitatiskapel.nl/wp-content/uploads/2023/07/zomerconcerten.jpg
END:VEVENT
BEGIN:VEVENT
DTSTART;TZID=Europe/Amsterdam:20240727T193000
DTEND;TZID=Europe/Amsterdam:20240727T193000
DTSTAMP:20260425T133605
CREATED:20240701T100034Z
LAST-MODIFIED:20240727T114851Z
UID:3176-1722108600-1722108600@www.stichtingbehoudtrinitatiskapel.nl
SUMMARY:Zomerconcerten Dordrecht |  Duo Pole
DESCRIPTION:Ook in 2024 wordt een zomerconcertserie georganiseerd. Kamermuziek met veelal een bijzondere rol voor de altviool in diverse vormen is te horen in de Trinitatiskapel. \n  \nMeer informatie vindt u op de website van de Zomerconcertserie.
URL:https://www.stichtingbehoudtrinitatiskapel.nl/activiteit/zomerconcerten-dordrecht-duo-pole/
LOCATION:Trinitatiskapel\, Vriesestraat 22\, Dordrecht\, 3311 NR\, Nederland
CATEGORIES:concert
ATTACH;FMTTYPE=image/jpeg:https://www.stichtingbehoudtrinitatiskapel.nl/wp-content/uploads/2023/07/zomerconcerten.jpg
END:VEVENT
END:VCALENDAR