BEGIN:VCALENDAR
VERSION:2.0
PRODID:-//Stichting Behoud Trinitatiskapel - ECPv6.15.20//NONSGML v1.0//EN
CALSCALE:GREGORIAN
METHOD:PUBLISH
X-ORIGINAL-URL:https://www.stichtingbehoudtrinitatiskapel.nl
X-WR-CALDESC:Evenementen voor Stichting Behoud Trinitatiskapel
REFRESH-INTERVAL;VALUE=DURATION:PT1H
X-Robots-Tag:noindex
X-PUBLISHED-TTL:PT1H
BEGIN:VTIMEZONE
TZID:Europe/Amsterdam
BEGIN:DAYLIGHT
TZOFFSETFROM:+0100
TZOFFSETTO:+0200
TZNAME:CEST
DTSTART:20220327T010000
END:DAYLIGHT
BEGIN:STANDARD
TZOFFSETFROM:+0200
TZOFFSETTO:+0100
TZNAME:CET
DTSTART:20221030T010000
END:STANDARD
BEGIN:DAYLIGHT
TZOFFSETFROM:+0100
TZOFFSETTO:+0200
TZNAME:CEST
DTSTART:20230326T010000
END:DAYLIGHT
BEGIN:STANDARD
TZOFFSETFROM:+0200
TZOFFSETTO:+0100
TZNAME:CET
DTSTART:20231029T010000
END:STANDARD
BEGIN:DAYLIGHT
TZOFFSETFROM:+0100
TZOFFSETTO:+0200
TZNAME:CEST
DTSTART:20240331T010000
END:DAYLIGHT
BEGIN:STANDARD
TZOFFSETFROM:+0200
TZOFFSETTO:+0100
TZNAME:CET
DTSTART:20241027T010000
END:STANDARD
END:VTIMEZONE
BEGIN:VEVENT
DTSTART;TZID=Europe/Amsterdam:20231208T200000
DTEND;TZID=Europe/Amsterdam:20231208T200000
DTSTAMP:20260426T015330
CREATED:20231201T110048Z
LAST-MODIFIED:20231201T154420Z
UID:2989-1702065600-1702065600@www.stichtingbehoudtrinitatiskapel.nl
SUMMARY:Adventsconcert
DESCRIPTION:Op 8 december wordt een feestelijk kerstconcert gegeven in de Trinitatiskapel. De Dordtenaren Johan den Hoedt (orgel)\, Alisa van Dijk (viool) en Henske Bakker (panfluit) treden op met christelijk gemengd koor Sjier Hasjiriem uit Werkendam. Dit koor staat onder leiding van dirigent Reinier Korver. \nDe avond wordt gevuld met prachtige werken van Georg Friedrich Händel\, Johann Sebastian Bach en Antonio Vivaldi. \nDe toegang is gratis. Na afloop is er een collecte ter bestrijding van de onkosten.
URL:https://www.stichtingbehoudtrinitatiskapel.nl/activiteit/adventsconcert/
LOCATION:Trinitatiskapel\, Vriesestraat 22\, Dordrecht\, 3311 NR\, Nederland
CATEGORIES:concert
ATTACH;FMTTYPE=image/jpeg:https://www.stichtingbehoudtrinitatiskapel.nl/wp-content/uploads/2023/08/trinitatiskapel_adventsconcert.jpg
ORGANIZER;CN="Alisa van Dijk":MAILTO:alisa.van.dijk@gmail.com
END:VEVENT
BEGIN:VEVENT
DTSTART;TZID=Europe/Amsterdam:20231209T153000
DTEND;TZID=Europe/Amsterdam:20231209T153000
DTSTAMP:20260426T015330
CREATED:20231201T110048Z
LAST-MODIFIED:20231201T152229Z
UID:2986-1702135800-1702135800@www.stichtingbehoudtrinitatiskapel.nl
SUMMARY:instrumentaal kerstconcert
DESCRIPTION:Op zaterdagmiddag 9 december vindt er een sfeervol instrumentaal concert plaatst in de eeuwenoude Trinitatiskapel. Reinier Korver (orgel en piano) en Henske Bakker (panfluit) treden op. Zij ontvangen\, als speciale gasten\, het duo Didima. Dit klavier-duo bestaat uit Diederik en Maarten Smitsman. \nHet concert is bijzonder. Niet alleen vanwege de ongedwongen sfeer\, maar vooral ook door het fraaie programma en de speciale gasten\, het duo Didima.\nNa afloop is er ruimte voor onderlinge ontmoeting onder het genot van een hapje en een drankje. \nDe toegang is gratis; collecte na afloop ter bestrijding van de onkosten.
URL:https://www.stichtingbehoudtrinitatiskapel.nl/activiteit/instrumentaal-kerstconcert/
LOCATION:Trinitatiskapel\, Vriesestraat 22\, Dordrecht\, 3311 NR\, Nederland
CATEGORIES:concert
ATTACH;FMTTYPE=image/jpeg:https://www.stichtingbehoudtrinitatiskapel.nl/wp-content/uploads/2023/08/trinitatis_concert.jpg
ORGANIZER;CN="Alisa van Dijk":MAILTO:alisa.van.dijk@gmail.com
END:VEVENT
BEGIN:VEVENT
DTSTART;TZID=Europe/Amsterdam:20231215T200000
DTEND;TZID=Europe/Amsterdam:20231215T200000
DTSTAMP:20260426T015330
CREATED:20231201T110048Z
LAST-MODIFIED:20231206T175828Z
UID:2995-1702670400-1702670400@www.stichtingbehoudtrinitatiskapel.nl
SUMMARY:Colinda – nieuwe en traditionele kerstmuziek
DESCRIPTION:Project4 speelt 15 december in de sfeervolle kapel. De vier panfluitisten Nadja Spooren\, Marlies de Roos\, Henske Bakker en Mariana Preda\, bespelen panfluiten van verschillende afmetingen. Ze brengen traditionele kerstliederen als ‘God Rest ye merrry Gentlemen’ ten gehore. Op het programma staat ook een originele compositie van de Roemeense componist Mihai Scarlat. Hij schreef speciaal voor dit ensemble een suite geïnspireerd op colindes\, traditionele Roemeense kerstliederen.\nOok wordt de suite African Christmas van de Duitse componist Soeren Sieg op vier panfluiten uitgevoerd. \nHet concert start om 20:00u. De toegang is €15 per volwassene. Een gezinskaart kost €35 (2 volwassenen en kinderen). \nReserveren per mail is mogelijk.
URL:https://www.stichtingbehoudtrinitatiskapel.nl/activiteit/colinda-nieuwe-en-traditionele-kerstmuziek/
LOCATION:Trinitatiskapel\, Vriesestraat 22\, Dordrecht\, 3311 NR\, Nederland
CATEGORIES:concert
ATTACH;FMTTYPE=image/jpeg:https://www.stichtingbehoudtrinitatiskapel.nl/wp-content/uploads/2023/12/Christmas-Party_20231115.jpg
END:VEVENT
BEGIN:VEVENT
DTSTART;VALUE=DATE:20231216
DTEND;VALUE=DATE:20231218
DTSTAMP:20260426T015330
CREATED:20231123T213601Z
LAST-MODIFIED:20231201T155056Z
UID:2958-1702684800-1702857599@www.stichtingbehoudtrinitatiskapel.nl
SUMMARY:Pieter Huijzer exposeert in de Kosterij
DESCRIPTION:Ook in 2023 organiseert kunstschilder Pieter Huijzer een verkoopexpositie in de Kosterij van de Trinitatiskapel. De expositie is toegankelijk op zaterdag 16 en zondag 17 december. Op 16 december openen de deuren om 10 uur\, op 17 december om 12 uur.
URL:https://www.stichtingbehoudtrinitatiskapel.nl/activiteit/pieter-huijzer-exposeert-in-de-kosterij/
LOCATION:In de Kosterij\, Vriesestraat 20\, Dordrecht\, 3311 NR
CATEGORIES:diversen
ATTACH;FMTTYPE=image/jpeg:https://www.stichtingbehoudtrinitatiskapel.nl/wp-content/uploads/2023/11/pieterhuijzer.jpg
END:VEVENT
BEGIN:VEVENT
DTSTART;TZID=Europe/Amsterdam:20231216T103000
DTEND;TZID=Europe/Amsterdam:20231216T103000
DTSTAMP:20260426T015330
CREATED:20231201T110048Z
LAST-MODIFIED:20231208T203509Z
UID:3003-1702722600-1702722600@www.stichtingbehoudtrinitatiskapel.nl
SUMMARY:Kerst Cransse
DESCRIPTION:Clara Oscura nodigt je uit: Kom luisteren naar liedjes\, muziek en verhaaltjes uit de middeleeuwen en… misschien wil je zelf ook wat delen en laten horen… \nHier is de cransse. Vrije inloop.
URL:https://www.stichtingbehoudtrinitatiskapel.nl/activiteit/kerst-cransse/
LOCATION:Trinitatiskapel\, Vriesestraat 22\, Dordrecht\, 3311 NR\, Nederland
CATEGORIES:festival
ATTACH;FMTTYPE=image/jpeg:https://www.stichtingbehoudtrinitatiskapel.nl/wp-content/uploads/2023/12/clara-oscura.jpg
END:VEVENT
BEGIN:VEVENT
DTSTART;TZID=Europe/Amsterdam:20231216T130000
DTEND;TZID=Europe/Amsterdam:20231216T130000
DTSTAMP:20260426T015330
CREATED:20231123T221710Z
LAST-MODIFIED:20231130T194848Z
UID:2960-1702731600-1702731600@www.stichtingbehoudtrinitatiskapel.nl
SUMMARY:Diff'rent Voices | Het meisje met de zwavelstokjes
DESCRIPTION:Op 16 december brengt vocale group Different Voices vier keer een kerstvoorstelling ‘Het meisje met de zwavelstokjes. \nDe voorstelling is te beluisteren om 13.00\, 14.00\, 15.00 en 16.00 uur. Toegang is gratis\, er is wel mogelijkheid een gift te geven. De helft van de opbrengst hiervan wordt gedoneerd aan Quiet Drechtsteden.
URL:https://www.stichtingbehoudtrinitatiskapel.nl/activiteit/diffrent-voices-het-meisje-met-de-zwavelstokjes/
LOCATION:Trinitatiskapel\, Vriesestraat 22\, Dordrecht\, 3311 NR\, Nederland
CATEGORIES:concert
ATTACH;FMTTYPE=image/jpeg:https://www.stichtingbehoudtrinitatiskapel.nl/wp-content/uploads/2023/11/diffrent-voices.jpg
END:VEVENT
BEGIN:VEVENT
DTSTART;TZID=Europe/Amsterdam:20231216T140000
DTEND;TZID=Europe/Amsterdam:20231216T140000
DTSTAMP:20260426T015330
CREATED:20231123T221710Z
LAST-MODIFIED:20231130T194754Z
UID:2970-1702735200-1702735200@www.stichtingbehoudtrinitatiskapel.nl
SUMMARY:Diff'rent Voices | Het meisje met de zwavelstokjes
DESCRIPTION:Op 16 december brengt vocale group Different Voices vier keer een kerstvoorstelling ‘Het meisje met de zwavelstokjes. \nDe voorstelling is te beluisteren om 13.00\, 14.00\, 15.00 en 16.00 uur. Toegang is gratis\, er is wel mogelijkheid een gift te geven. De helft van de opbrengst hiervan wordt gedoneerd aan Quiet Drechtsteden.
URL:https://www.stichtingbehoudtrinitatiskapel.nl/activiteit/diffrent-voices-het-meisje-met-de-zwavelstokjes-1/
LOCATION:Trinitatiskapel\, Vriesestraat 22\, Dordrecht\, 3311 NR\, Nederland
CATEGORIES:concert
ATTACH;FMTTYPE=image/jpeg:https://www.stichtingbehoudtrinitatiskapel.nl/wp-content/uploads/2023/11/diffrent-voices.jpg
END:VEVENT
BEGIN:VEVENT
DTSTART;TZID=Europe/Amsterdam:20231216T150000
DTEND;TZID=Europe/Amsterdam:20231216T150000
DTSTAMP:20260426T015330
CREATED:20231123T221710Z
LAST-MODIFIED:20231130T194633Z
UID:2972-1702738800-1702738800@www.stichtingbehoudtrinitatiskapel.nl
SUMMARY:Diff'rent Voices | Het meisje met de zwavelstokjes
DESCRIPTION:Op 16 december brengt vocale group Different Voices vier keer een kerstvoorstelling ‘Het meisje met de zwavelstokjes. \nDe voorstelling is te beluisteren om 13.00\, 14.00\, 15.00 en 16.00 uur. Toegang is gratis\, er is wel mogelijkheid een gift te geven. De helft van de opbrengst hiervan wordt gedoneerd aan Quiet Drechtsteden.
URL:https://www.stichtingbehoudtrinitatiskapel.nl/activiteit/diffrent-voices-het-meisje-met-de-zwavelstokjes-2/
LOCATION:Trinitatiskapel\, Vriesestraat 22\, Dordrecht\, 3311 NR\, Nederland
CATEGORIES:concert
ATTACH;FMTTYPE=image/jpeg:https://www.stichtingbehoudtrinitatiskapel.nl/wp-content/uploads/2023/11/diffrent-voices.jpg
END:VEVENT
BEGIN:VEVENT
DTSTART;TZID=Europe/Amsterdam:20231216T160000
DTEND;TZID=Europe/Amsterdam:20231216T160000
DTSTAMP:20260426T015330
CREATED:20231123T221710Z
LAST-MODIFIED:20231130T192635Z
UID:2973-1702742400-1702742400@www.stichtingbehoudtrinitatiskapel.nl
SUMMARY:Diff'rent Voices | Het meisje met de zwavelstokjes
DESCRIPTION:Op 16 december brengt vocal group Different Voices vier keer een kerstvoorstelling ‘Het meisje met de zwavelstokjes. \nDe voorstelling is te beluisteren om 13.00\, 14.00\, 15.00 en 16.00 uur. Toegang is gratis\, er is wel mogelijkheid een gift te geven. De helft van de opbrengst hiervan wordt gedoneerd aan Quiet Drechtsteden.
URL:https://www.stichtingbehoudtrinitatiskapel.nl/activiteit/diffrent-voices-het-meisje-met-de-zwavelstokjes-3/
LOCATION:Trinitatiskapel\, Vriesestraat 22\, Dordrecht\, 3311 NR\, Nederland
CATEGORIES:concert
ATTACH;FMTTYPE=image/jpeg:https://www.stichtingbehoudtrinitatiskapel.nl/wp-content/uploads/2023/11/diffrent-voices.jpg
END:VEVENT
BEGIN:VEVENT
DTSTART;TZID=Europe/Amsterdam:20231216T170000
DTEND;TZID=Europe/Amsterdam:20231216T170000
DTSTAMP:20260426T015330
CREATED:20231201T110048Z
LAST-MODIFIED:20231209T182811Z
UID:2999-1702746000-1702746000@www.stichtingbehoudtrinitatiskapel.nl
SUMMARY:Sing we joyous\, all together
DESCRIPTION:Kamerkoor Ademloos en Dubbelsteijn Blokfluitensemble presenteren ‘Sing we joyous all together’. Een vrolijk mini concertje met muziek uit de renaissance en kerstliedjes.\nDe leiding van het kamerkoor en het blokfluitensemble is in handen van Sonja Gruys.\n\nToegang gratis
URL:https://www.stichtingbehoudtrinitatiskapel.nl/activiteit/sing-we-joyous-all-together/
LOCATION:Trinitatiskapel\, Vriesestraat 22\, Dordrecht\, 3311 NR\, Nederland
CATEGORIES:concert
ATTACH;FMTTYPE=image/jpeg:https://www.stichtingbehoudtrinitatiskapel.nl/wp-content/uploads/2023/12/kerstconcert-16122023.jpg
END:VEVENT
BEGIN:VEVENT
DTSTART;TZID=Europe/Amsterdam:20231216T200000
DTEND;TZID=Europe/Amsterdam:20231216T200000
DTSTAMP:20260426T015330
CREATED:20230801T100048Z
LAST-MODIFIED:20231119T092642Z
UID:2929-1702756800-1702756800@www.stichtingbehoudtrinitatiskapel.nl
SUMMARY:Kerstconcert | Orpheus ensemble
DESCRIPTION:Op zaterdagavond 16 december en op zondagmiddag 17 december krijgt u weer een bijzonder concert voorgeschoteld waarmee het Orpheus Ensemble u in een feestelijk kerststemming hopen te brengen. Medewerking zal worden verleend door sopraan Pauline Doolaard. De begeleiding wordt verzorgd door Jeroen Liedorp. De muzikale leiding is uiteraard in handen van Caecilia Boschman.
URL:https://www.stichtingbehoudtrinitatiskapel.nl/activiteit/kerstconcert-orpheus-ensemble/
LOCATION:Trinitatiskapel\, Vriesestraat 22\, Dordrecht\, 3311 NR\, Nederland
CATEGORIES:concert
ATTACH;FMTTYPE=image/jpeg:https://www.stichtingbehoudtrinitatiskapel.nl/wp-content/uploads/2023/08/Kerstconcert-orpheus.jpg
END:VEVENT
BEGIN:VEVENT
DTSTART;TZID=Europe/Amsterdam:20231217T143000
DTEND;TZID=Europe/Amsterdam:20231217T143000
DTSTAMP:20260426T015330
CREATED:20230801T100048Z
LAST-MODIFIED:20231119T092609Z
UID:2932-1702823400-1702823400@www.stichtingbehoudtrinitatiskapel.nl
SUMMARY:Kerstconcert | Orpheus ensemble
DESCRIPTION:Op zaterdagavond 16 december en op zondagmiddag 17 december krijgt u weer een bijzonder concert voorgeschoteld waarmee het Orpheus Ensemble u in een feestelijk kerststemming hopen te brengen. Medewerking zal worden verleend door sopraan Pauline Doolaard. De begeleiding wordt verzorgd door Jeroen Liedorp. De muzikale leiding is uiteraard in handen van Caecilia Boschman.
URL:https://www.stichtingbehoudtrinitatiskapel.nl/activiteit/kerstconcert-orpheus-ensemble-2/
LOCATION:Trinitatiskapel\, Vriesestraat 22\, Dordrecht\, 3311 NR\, Nederland
CATEGORIES:concert
ATTACH;FMTTYPE=image/jpeg:https://www.stichtingbehoudtrinitatiskapel.nl/wp-content/uploads/2023/08/Kerstconcert-orpheus.jpg
END:VEVENT
BEGIN:VEVENT
DTSTART;TZID=Europe/Amsterdam:20231221T200000
DTEND;TZID=Europe/Amsterdam:20231221T200000
DTSTAMP:20260426T015330
CREATED:20231101T110048Z
LAST-MODIFIED:20231130T193030Z
UID:2936-1703188800-1703188800@www.stichtingbehoudtrinitatiskapel.nl
SUMMARY:A Festival of Nine Lessons & Carols | La Confiance
DESCRIPTION:Op 21 December verzorgt het Dordtse Vrouwenkoor La Confiance een kerstconcert in de vorm van een Festival of Nine Lessons & Carols. Het koor staat onder leiding van Eric Koevoets. \nIn de Engelse traditie wordt op de vooravond van kerstmis dit ‘Festival’ gehouden. De carols\, in het Engels en Latijn\, zijn teer en lieflijk\, andere heel vrolijk en zelfs uitbundig en worden afgewisseld met lezingen uit de Bijbel (in het Nederlands). \nDe toegang is gratis. Er is wel een collecte ter bestrijding van de onkosten.
URL:https://www.stichtingbehoudtrinitatiskapel.nl/activiteit/a-festival-of-nine-lessons-carols-la-confiance/
LOCATION:Trinitatiskapel\, Vriesestraat 22\, Dordrecht\, 3311 NR\, Nederland
CATEGORIES:concert
ATTACH;FMTTYPE=image/jpeg:https://www.stichtingbehoudtrinitatiskapel.nl/wp-content/uploads/2023/11/festivalninelessons.jpg
END:VEVENT
BEGIN:VEVENT
DTSTART;TZID=Europe/Amsterdam:20231223T153000
DTEND;TZID=Europe/Amsterdam:20231223T153000
DTSTAMP:20260426T015330
CREATED:20230801T100048Z
LAST-MODIFIED:20231217T113616Z
UID:2739-1703345400-1703345400@www.stichtingbehoudtrinitatiskapel.nl
SUMMARY:Kapelconcert
DESCRIPTION:Op zaterdagmiddag 23 december wordt er weer een kapelconcert georganiseerd in de Trinitatiskapel. Dit concert heeft als thema ‘Lessons and Carols’. \nNaast violist Alisa van Dijk zal het Gorcum Boys Choir optreden. Dit koor uit Gorinchem staat onder leiding van Jeroen Bal. Johan den Hoedt zal het orgel bespelen. \nDit bijzondere concert is gratis toegankelijk.  Er is wel een collecte ter bestrijding van de onkosten.
URL:https://www.stichtingbehoudtrinitatiskapel.nl/activiteit/kapelconcert-december/
LOCATION:Trinitatiskapel\, Vriesestraat 22\, Dordrecht\, 3311 NR\, Nederland
CATEGORIES:concert
ATTACH;FMTTYPE=image/jpeg:https://www.stichtingbehoudtrinitatiskapel.nl/wp-content/uploads/2023/04/alisa-van-dijk.jpg
ORGANIZER;CN="Alisa van Dijk":MAILTO:alisa.van.dijk@gmail.com
END:VEVENT
BEGIN:VEVENT
DTSTART;TZID=Europe/Amsterdam:20231223T201500
DTEND;TZID=Europe/Amsterdam:20231223T201500
DTSTAMP:20260426T015330
CREATED:20231101T110048Z
LAST-MODIFIED:20231118T212531Z
UID:2911-1703362500-1703362500@www.stichtingbehoudtrinitatiskapel.nl
SUMMARY:A Ceremony of Carols | Capella Breda
DESCRIPTION:Cappella Breda zingt een warm kerstprogramma rondom all-time-favorite a Ceremony of Carols van Benjamin Britten\, met top-harpiste Veronique Serpenti. \nHet werk uit 1942 is opgebouwd uit acht kerstliederen\, die Britten samenstelde uit zowel gregoriaanse Latijnse zang als traditionele ‘Christmas Carols’.
URL:https://www.stichtingbehoudtrinitatiskapel.nl/activiteit/a-ceremony-of-carols-capella-breda/
LOCATION:Trinitatiskapel\, Vriesestraat 22\, Dordrecht\, 3311 NR\, Nederland
CATEGORIES:concert
ATTACH;FMTTYPE=image/jpeg:https://www.stichtingbehoudtrinitatiskapel.nl/wp-content/uploads/2023/11/kerstconcert-capella-breda.jpg
END:VEVENT
END:VCALENDAR