BEGIN:VCALENDAR
VERSION:2.0
PRODID:-//Stichting Behoud Trinitatiskapel - ECPv6.15.20//NONSGML v1.0//EN
CALSCALE:GREGORIAN
METHOD:PUBLISH
X-WR-CALNAME:Stichting Behoud Trinitatiskapel
X-ORIGINAL-URL:https://www.stichtingbehoudtrinitatiskapel.nl
X-WR-CALDESC:Evenementen voor Stichting Behoud Trinitatiskapel
REFRESH-INTERVAL;VALUE=DURATION:PT1H
X-Robots-Tag:noindex
X-PUBLISHED-TTL:PT1H
BEGIN:VTIMEZONE
TZID:Europe/Amsterdam
BEGIN:DAYLIGHT
TZOFFSETFROM:+0100
TZOFFSETTO:+0200
TZNAME:CEST
DTSTART:20220327T010000
END:DAYLIGHT
BEGIN:STANDARD
TZOFFSETFROM:+0200
TZOFFSETTO:+0100
TZNAME:CET
DTSTART:20221030T010000
END:STANDARD
BEGIN:DAYLIGHT
TZOFFSETFROM:+0100
TZOFFSETTO:+0200
TZNAME:CEST
DTSTART:20230326T010000
END:DAYLIGHT
BEGIN:STANDARD
TZOFFSETFROM:+0200
TZOFFSETTO:+0100
TZNAME:CET
DTSTART:20231029T010000
END:STANDARD
BEGIN:DAYLIGHT
TZOFFSETFROM:+0100
TZOFFSETTO:+0200
TZNAME:CEST
DTSTART:20240331T010000
END:DAYLIGHT
BEGIN:STANDARD
TZOFFSETFROM:+0200
TZOFFSETTO:+0100
TZNAME:CET
DTSTART:20241027T010000
END:STANDARD
END:VTIMEZONE
BEGIN:VEVENT
DTSTART;TZID=Europe/Amsterdam:20231002T203000
DTEND;TZID=Europe/Amsterdam:20231002T203000
DTSTAMP:20260426T052514
CREATED:20230801T100048Z
LAST-MODIFIED:20230927T185432Z
UID:2772-1696278600-1696278600@www.stichtingbehoudtrinitatiskapel.nl
SUMMARY:Najaarsconcert Muller & Munnelly
DESCRIPTION:Op maandag 2 oktober treedt het duo Muller & Munnely op in de Trinitatiskapel. Bij dit duo komt de gezamenlijke liefde voor diep gewortelde folkmuziek tot uiting. David Munelly groeide op omringd door traditionele Ierse muziek van county Mayo. Ies Muller op zijn beurt werd meer en meer aangetrokken door de wortels van de Ierse muziek. \nOok al blijft traditionele Ierse muziek de belangrijkste basis\, speelt het duo eigen muziek in een onnavolgbare stijl. Hierbij klinken invloeden door uit onder andere jazz\, Bretonse muziek en klassieke muziek.
URL:https://www.stichtingbehoudtrinitatiskapel.nl/activiteit/najaarsconcert-muller-munnelly/
LOCATION:Trinitatiskapel\, Vriesestraat 22\, Dordrecht\, 3311 NR\, Nederland
CATEGORIES:concert
ATTACH;FMTTYPE=image/jpeg:https://www.stichtingbehoudtrinitatiskapel.nl/wp-content/uploads/2023/08/muller_munnelly_2022_foto_ronald_rietman.jpg
END:VEVENT
BEGIN:VEVENT
DTSTART;TZID=Europe/Amsterdam:20231005T200000
DTEND;TZID=Europe/Amsterdam:20231005T200000
DTSTAMP:20260426T052514
CREATED:20231001T101034Z
LAST-MODIFIED:20250222T115735Z
UID:2806-1696536000-1696536000@www.stichtingbehoudtrinitatiskapel.nl
SUMMARY:Filosofisch Cafe | Inleiding Ethiek
DESCRIPTION:Op 5 oktober start het Filosofisch Café het seizoen met een inleiding over drie belangrijke ethische theorieën. Deze theorieën zijn de basis om het verdere denken te slijpen. \nBij het Filosofisch Café wordt nagedacht over belangrijke en diepe vragen. Niet om een pasklaar antwoord te krijgen\, maar om samen na te denken en te leren.\nDe bijeenkomsten zijn vrij toegankelijk.
URL:https://www.stichtingbehoudtrinitatiskapel.nl/activiteit/filosofisch-cafe-inleiding-ethiek/
LOCATION:In de Kosterij\, Vriesestraat 20\, Dordrecht\, 3311 NR
CATEGORIES:diversen
ATTACH;FMTTYPE=image/jpeg:https://www.stichtingbehoudtrinitatiskapel.nl/wp-content/uploads/2023/10/aristoteles.jpg
ORGANIZER;CN="Filosofisch Caf%C3%A9 Dordrecht":MAILTO:info@filosofischcafedordrecht.nl
END:VEVENT
BEGIN:VEVENT
DTSTART;TZID=Europe/Amsterdam:20231007T093000
DTEND;TZID=Europe/Amsterdam:20231007T093000
DTSTAMP:20260426T052514
CREATED:20230929T170048Z
LAST-MODIFIED:20230930T090901Z
UID:2780-1696671000-1696671000@www.stichtingbehoudtrinitatiskapel.nl
SUMMARY:Sacred Dance 3.0
DESCRIPTION:Kom en ontdek de magie van Sacred Dance 3.0\, een bijzondere danservaring! \nU kunt zelf bepalen een eigen bijdrage bepalen voor deelname aan Sacred Dance.
URL:https://www.stichtingbehoudtrinitatiskapel.nl/activiteit/sacred-dance-3-0-3/
LOCATION:Trinitatiskapel\, Vriesestraat 22\, Dordrecht\, 3311 NR\, Nederland
CATEGORIES:diversen
ATTACH;FMTTYPE=image/jpeg:https://www.stichtingbehoudtrinitatiskapel.nl/wp-content/uploads/2023/08/sacreddance30.jpg
END:VEVENT
BEGIN:VEVENT
DTSTART;TZID=Europe/Amsterdam:20231008T150000
DTEND;TZID=Europe/Amsterdam:20231008T160000
DTSTAMP:20260426T052514
CREATED:20231001T101034Z
LAST-MODIFIED:20231009T074004Z
UID:2843-1696777200-1696780800@www.stichtingbehoudtrinitatiskapel.nl
SUMMARY:Clip presentatie 'verdwaald'
DESCRIPTION:Op zondag 8 oktober is er een clip-presentatie ‘verdwaald’ van Thisgirlslife Ilona. Hierbij is er live vertoning en live muziek te zien en te horen.
URL:https://www.stichtingbehoudtrinitatiskapel.nl/activiteit/clip-presentatie-verdwaald/
LOCATION:Trinitatiskapel\, Vriesestraat 22\, Dordrecht\, 3311 NR\, Nederland
CATEGORIES:diversen
ATTACH;FMTTYPE=image/jpeg:https://www.stichtingbehoudtrinitatiskapel.nl/wp-content/uploads/2023/10/clippresentatie-verdwaald.jpg
END:VEVENT
BEGIN:VEVENT
DTSTART;TZID=Europe/Amsterdam:20231012T200000
DTEND;TZID=Europe/Amsterdam:20231012T220000
DTSTAMP:20260426T052514
CREATED:20231001T100017Z
LAST-MODIFIED:20231009T074806Z
UID:2847-1697140800-1697148000@www.stichtingbehoudtrinitatiskapel.nl
SUMMARY:Oud Dordrecht - Uitreiking Dordtse Puienprijs
DESCRIPTION:In 2017 heeft de Vereniging Oud-Dordrecht\, in het kader van haar 125-jarig jubileum besloten tot het instellen van een Dordtse Puienprijs met als doel daarmee verbetering van het stadsaangezicht te ondersteunen. De prijs wordt om het jaar uitgereikt ter beloning van een geslaagde gevelrestauratie van een pand\, \nDe Dordtse Puienprijs 2023 bestaat uit een trofee\, de publieksprijs uit een oorkonde. Beide prijzen worden uitgereikt aan de eigenaren van de desbetreffende panden.\nDe prijzen zullen worden uitgereikt op donderdag 12 oktober 2023 in de Trinitatiskapel\, Vriesestraat 22 te Dordrecht. U bent allen van harte welkom!
URL:https://www.stichtingbehoudtrinitatiskapel.nl/activiteit/uitreiking-dordtse-puienprijs/
LOCATION:Trinitatiskapel\, Vriesestraat 22\, Dordrecht\, 3311 NR\, Nederland
CATEGORIES:vergadering
ATTACH;FMTTYPE=image/png:https://www.stichtingbehoudtrinitatiskapel.nl/wp-content/uploads/2023/02/Oud_Dordrecht_LOGOzonder-125-lowres.png
ORGANIZER;CN="Vereniging Oud-Dordrecht":MAILTO:info@oud-dordrecht.nl
END:VEVENT
BEGIN:VEVENT
DTSTART;TZID=Europe/Amsterdam:20231019T200000
DTEND;TZID=Europe/Amsterdam:20231019T200000
DTSTAMP:20260426T052514
CREATED:20231001T101034Z
LAST-MODIFIED:20250222T115804Z
UID:2809-1697745600-1697745600@www.stichtingbehoudtrinitatiskapel.nl
SUMMARY:Filosofisch Cafe | discussieavond abortus
DESCRIPTION:Op donderdag 19 oktober organiseert het Filosofisch Café een discussie-avond. Het onderwerp van deze avond is abortus. \nBij het Filosofisch Café wordt nagedacht over belangrijke en diepe vragen. Niet om een pasklaar antwoord te krijgen\, maar om samen na te denken en te leren.\nDe bijeenkomsten zijn vrij toegankelijk.
URL:https://www.stichtingbehoudtrinitatiskapel.nl/activiteit/filosofisch-cafe-discussieavond-abortus/
LOCATION:In de Kosterij\, Vriesestraat 20\, Dordrecht\, 3311 NR
CATEGORIES:diversen
ATTACH;FMTTYPE=image/jpeg:https://www.stichtingbehoudtrinitatiskapel.nl/wp-content/uploads/2023/10/aristoteles.jpg
ORGANIZER;CN="Filosofisch Caf%C3%A9 Dordrecht":MAILTO:info@filosofischcafedordrecht.nl
END:VEVENT
BEGIN:VEVENT
DTSTART;TZID=Europe/Amsterdam:20231021T153000
DTEND;TZID=Europe/Amsterdam:20231021T153000
DTSTAMP:20260426T052514
CREATED:20230801T100048Z
LAST-MODIFIED:20230803T162047Z
UID:2735-1697902200-1697902200@www.stichtingbehoudtrinitatiskapel.nl
SUMMARY:Kapelconcert
DESCRIPTION:Op zaterdagmiddag 21 oktober wordt er weer een kapelconcert georganiseerd in de Trinitatiskapel. \nDit concert zal worden verzorgd door de Dordtse violist Alisa van Dijk en de Gorcumse organist Nico Blom.
URL:https://www.stichtingbehoudtrinitatiskapel.nl/activiteit/kapelconcert-oktober/
LOCATION:Trinitatiskapel\, Vriesestraat 22\, Dordrecht\, 3311 NR\, Nederland
CATEGORIES:concert
ATTACH;FMTTYPE=image/jpeg:https://www.stichtingbehoudtrinitatiskapel.nl/wp-content/uploads/2023/04/alisa-van-dijk.jpg
ORGANIZER;CN="Alisa van Dijk":MAILTO:alisa.van.dijk@gmail.com
END:VEVENT
BEGIN:VEVENT
DTSTART;TZID=Europe/Amsterdam:20231027T073000
DTEND;TZID=Europe/Amsterdam:20231027T073000
DTSTAMP:20260426T052514
CREATED:20230929T170048Z
LAST-MODIFIED:20231016T194306Z
UID:2880-1698391800-1698391800@www.stichtingbehoudtrinitatiskapel.nl
SUMMARY:Sacred Dance 3.0 | Meditatie in beweging
DESCRIPTION:Kom en ontdek de magie van Sacred Dance 3.0\, een bijzondere danservaring!
URL:https://www.stichtingbehoudtrinitatiskapel.nl/activiteit/sacred-dance-3-0-meditatie-in-beweging-3/
LOCATION:Trinitatiskapel\, Vriesestraat 22\, Dordrecht\, 3311 NR\, Nederland
CATEGORIES:diversen
ATTACH;FMTTYPE=image/jpeg:https://www.stichtingbehoudtrinitatiskapel.nl/wp-content/uploads/2023/08/sacreddance30.jpg
END:VEVENT
BEGIN:VEVENT
DTSTART;TZID=Europe/Amsterdam:20231027T073000
DTEND;TZID=Europe/Amsterdam:20231027T073000
DTSTAMP:20260426T052514
CREATED:20230929T170048Z
LAST-MODIFIED:20231016T194231Z
UID:2883-1698391800-1698391800@www.stichtingbehoudtrinitatiskapel.nl
SUMMARY:Sacred Dance 3.0 | Meditatie in beweging
DESCRIPTION:Kom en ontdek de magie van Sacred Dance 3.0\, een bijzondere danservaring! \nDeze danservaring duurt 45 minuten. Er worden op vrijdag 27 oktober twee sessies georganiseerd\, om 7:30 uur en om 9:00 uur.
URL:https://www.stichtingbehoudtrinitatiskapel.nl/activiteit/sacred-dance-3-0-meditatie-in-beweging-2/
LOCATION:Trinitatiskapel\, Vriesestraat 22\, Dordrecht\, 3311 NR\, Nederland
CATEGORIES:diversen
ATTACH;FMTTYPE=image/jpeg:https://www.stichtingbehoudtrinitatiskapel.nl/wp-content/uploads/2023/08/sacreddance30.jpg
END:VEVENT
BEGIN:VEVENT
DTSTART;TZID=Europe/Amsterdam:20231027T090000
DTEND;TZID=Europe/Amsterdam:20231027T090000
DTSTAMP:20260426T052514
CREATED:20230929T170048Z
LAST-MODIFIED:20231016T194138Z
UID:2882-1698397200-1698397200@www.stichtingbehoudtrinitatiskapel.nl
SUMMARY:Sacred Dance 3.0 | Meditatie in beweging
DESCRIPTION:Kom en ontdek de magie van Sacred Dance 3.0\, een bijzondere danservaring! \nDeze danservaring duurt 45 minuten. Er worden op vrijdag 27 oktober twee sessies georganiseerd\, om 7:30 uur en om 9:00 uur.
URL:https://www.stichtingbehoudtrinitatiskapel.nl/activiteit/sacred-dance-3-0-meditatie-in-beweging/
LOCATION:Trinitatiskapel\, Vriesestraat 22\, Dordrecht\, 3311 NR\, Nederland
CATEGORIES:diversen
ATTACH;FMTTYPE=image/jpeg:https://www.stichtingbehoudtrinitatiskapel.nl/wp-content/uploads/2023/08/sacreddance30.jpg
END:VEVENT
BEGIN:VEVENT
DTSTART;TZID=Europe/Amsterdam:20231028T093000
DTEND;TZID=Europe/Amsterdam:20231028T093000
DTSTAMP:20260426T052514
CREATED:20230929T170048Z
LAST-MODIFIED:20231016T194338Z
UID:2860-1698485400-1698485400@www.stichtingbehoudtrinitatiskapel.nl
SUMMARY:Sacred Dance 3.0
DESCRIPTION:Kom en ontdek de magie van Sacred Dance 3.0\, een bijzondere danservaring!
URL:https://www.stichtingbehoudtrinitatiskapel.nl/activiteit/sacred-dance-3-0-2/
LOCATION:Trinitatiskapel\, Vriesestraat 22\, Dordrecht\, 3311 NR\, Nederland
CATEGORIES:diversen
ATTACH;FMTTYPE=image/jpeg:https://www.stichtingbehoudtrinitatiskapel.nl/wp-content/uploads/2023/08/sacreddance30.jpg
END:VEVENT
BEGIN:VEVENT
DTSTART;TZID=Europe/Amsterdam:20231031T153000
DTEND;TZID=Europe/Amsterdam:20231031T153000
DTSTAMP:20260426T052514
CREATED:20231001T100048Z
LAST-MODIFIED:20251114T130049Z
UID:2891-1698766200-1698766200@www.stichtingbehoudtrinitatiskapel.nl
SUMMARY:Hervormingsdag 2023
DESCRIPTION:Ruim 500 jaar geleden publiceerde Maarten Luther zijn 95 stellingen tegen situaties in de Rooms-Katholieke Kerk. Dit leidde uiteindelijk tot de Reformatie en een breuk met de kerk van Rome.\nSindsdien wordt 31 oktober in diverse protestantse kerken als herdenkingsdag  van de kerkhervorming herdacht. \nOp 31 oktober 2023 houdt de Evangelisch Lutherse Gemeente Dordrecht een herdenkingsmiddag. Dominee Elsa Aarsen-Schiering zal een lezing verzorgen. Tevens zal er muziek uit de Lutherse traditie klinken.
URL:https://www.stichtingbehoudtrinitatiskapel.nl/activiteit/hervormingsdag-2023/
LOCATION:Trinitatiskapel\, Vriesestraat 22\, Dordrecht\, 3311 NR\, Nederland
CATEGORIES:concert
ATTACH;FMTTYPE=image/jpeg:https://www.stichtingbehoudtrinitatiskapel.nl/wp-content/uploads/2023/08/hervormingsdag2023.jpg
END:VEVENT
END:VCALENDAR