BEGIN:VCALENDAR
VERSION:2.0
PRODID:-//Stichting Behoud Trinitatiskapel - ECPv6.15.20//NONSGML v1.0//EN
CALSCALE:GREGORIAN
METHOD:PUBLISH
X-WR-CALNAME:Stichting Behoud Trinitatiskapel
X-ORIGINAL-URL:https://www.stichtingbehoudtrinitatiskapel.nl
X-WR-CALDESC:Evenementen voor Stichting Behoud Trinitatiskapel
REFRESH-INTERVAL;VALUE=DURATION:PT1H
X-Robots-Tag:noindex
X-PUBLISHED-TTL:PT1H
BEGIN:VTIMEZONE
TZID:Europe/Amsterdam
BEGIN:DAYLIGHT
TZOFFSETFROM:+0100
TZOFFSETTO:+0200
TZNAME:CEST
DTSTART:20250330T010000
END:DAYLIGHT
BEGIN:STANDARD
TZOFFSETFROM:+0200
TZOFFSETTO:+0100
TZNAME:CET
DTSTART:20251026T010000
END:STANDARD
BEGIN:DAYLIGHT
TZOFFSETFROM:+0100
TZOFFSETTO:+0200
TZNAME:CEST
DTSTART:20260329T010000
END:DAYLIGHT
BEGIN:STANDARD
TZOFFSETFROM:+0200
TZOFFSETTO:+0100
TZNAME:CET
DTSTART:20261025T010000
END:STANDARD
BEGIN:DAYLIGHT
TZOFFSETFROM:+0100
TZOFFSETTO:+0200
TZNAME:CEST
DTSTART:20270328T010000
END:DAYLIGHT
BEGIN:STANDARD
TZOFFSETFROM:+0200
TZOFFSETTO:+0100
TZNAME:CET
DTSTART:20271031T010000
END:STANDARD
END:VTIMEZONE
BEGIN:VEVENT
DTSTART;TZID=Europe/Amsterdam:20260617T200000
DTEND;TZID=Europe/Amsterdam:20260617T200000
DTSTAMP:20260424T163519
CREATED:20260331T220017Z
LAST-MODIFIED:20260322T145103Z
UID:3862-1781726400-1781726400@www.stichtingbehoudtrinitatiskapel.nl
SUMMARY:Oud-Dordrecht | Kolonialisme in Dordrecht
DESCRIPTION:Op 30 april 2026 verzorgt Oud Dordrecht een lezing over Kolonialisme in Dordrecht.
URL:https://www.stichtingbehoudtrinitatiskapel.nl/activiteit/oud-dordrecht-kolonialisme-in-dordrecht/
LOCATION:Trinitatiskapel\, Vriesestraat 22\, Dordrecht\, 3311 NR\, Nederland
CATEGORIES:vergadering
ATTACH;FMTTYPE=image/png:https://www.stichtingbehoudtrinitatiskapel.nl/wp-content/uploads/2023/02/Oud_Dordrecht_LOGOzonder-125-lowres.png
ORGANIZER;CN="Vereniging Oud-Dordrecht":MAILTO:info@oud-dordrecht.nl
END:VEVENT
BEGIN:VEVENT
DTSTART;TZID=Europe/Amsterdam:20260627T193000
DTEND;TZID=Europe/Amsterdam:20260627T193000
DTSTAMP:20260424T163519
CREATED:20260325T100001Z
LAST-MODIFIED:20260322T144136Z
UID:3855-1782588600-1782588600@www.stichtingbehoudtrinitatiskapel.nl
SUMMARY:Kamermuziek | Pelgrim Trio
DESCRIPTION:Het Pelgrim Trio bestaat uit klarinettist Thea Rosmulder\, altviolist Karin Dolman en pianist Caecilia Boschman. \nOp 27 juni verzorgt het trio een concert in de kapel. In dit programma worden verschillende facetten van de Schwermut verkend. Als rode draad klinken fragmenten uit de Acht Stücke van Max Bruch: korte\, intieme momenten die als muzikale gedachten tussen de grotere werken door verweven zijn. Zij vormen het kader van een programma waarin verstilling en expressie elkaar voortdurend afwisselen. \nKaartverkoop vindt online plaats.
URL:https://www.stichtingbehoudtrinitatiskapel.nl/activiteit/kamermuziek-pelgrim-trio-2026/
LOCATION:Trinitatiskapel\, Vriesestraat 22\, Dordrecht\, 3311 NR\, Nederland
CATEGORIES:concert
ATTACH;FMTTYPE=image/jpeg:https://www.stichtingbehoudtrinitatiskapel.nl/wp-content/uploads/2025/08/pelgrimtrio.jpg
ORGANIZER;CN="Kamermuziek Dordrecht":MAILTO:contact@kamermuziekdordrecht.nl
END:VEVENT
BEGIN:VEVENT
DTSTART;TZID=Europe/Amsterdam:20260628T150000
DTEND;TZID=Europe/Amsterdam:20260628T163000
DTSTAMP:20260424T163519
CREATED:20260415T100048Z
LAST-MODIFIED:20260322T141437Z
UID:3845-1782658800-1782664200@www.stichtingbehoudtrinitatiskapel.nl
SUMMARY:Processie Heilig Hout
DESCRIPTION:Sinds 2013 vindt in Dordrecht jaarlijks een processie plaats waarbij twee splinters van het Kruishout van Christus door de binnenstad worden rondgedragen. De tocht begint bij de Grote Kerk\, waar deze relieken in de middeleeuwen werden vereerd\, en eindigt bij de Antoniuskerk\, waar de reliekhouder na afloop weer wordt geplaatst op een rustaltaar achter in de kerk. \nVoor deze gelegenheid wordt het Heilig Hout tijdelijk teruggebracht naar de Grote Kerk\, waar het eeuwenlang bewaard is geweest. Van daaruit trekt de processie door de binnenstad\, langs onder meer de Trinitatiskapel en de Wilhelminakerk\, naar de Antoniuskerk. \nDe processie begint om 15.00 uur met een korte gebedsdienst in de Grote Kerk aan de Lange Geldersekade. Aansluitend vertrekt de stoet richting de Antoniuskerk aan de Burgemeester De Raadtsingel\, waar wordt afgesloten met een plechtige lofdienst.
URL:https://www.stichtingbehoudtrinitatiskapel.nl/activiteit/processie-heilig-hout-2026/
LOCATION:Trinitatiskapel\, Vriesestraat 22\, Dordrecht\, 3311 NR\, Nederland
CATEGORIES:diversen
ATTACH;FMTTYPE=image/jpeg:https://www.stichtingbehoudtrinitatiskapel.nl/wp-content/uploads/2023/06/heilig-hout.jpg
END:VEVENT
BEGIN:VEVENT
DTSTART;TZID=Europe/Amsterdam:20261022T200000
DTEND;TZID=Europe/Amsterdam:20261022T200000
DTSTAMP:20260424T163519
CREATED:20260331T220017Z
LAST-MODIFIED:20260322T145704Z
UID:3864-1792699200-1792699200@www.stichtingbehoudtrinitatiskapel.nl
SUMMARY:Oud-Dordrecht | De Victoriafabriek
DESCRIPTION:Op 30 april 2026 verzorgt Oud Dordrecht een lezing over de Victoriafabriek. \nDe biscuitfabriek Victoria aan de Hoge Bakstraat heeft jarenlang mede het gezicht van Dordrecht bepaald. De fabriek werd in 1904 geopend als filiaal van de gelijknamige Brusselse onderneming\, die haar oorsprong vond in 1894. \nVooral onder jonge vrouwen was Victoria een populaire werkgever; velen verkozen het inpakken van koekjes boven het werk als dienstbode. In 1948 werd het duizendste personeelslid verwelkomd en in de jaren vijftig bereikte het personeelsbestand een hoogtepunt van ongeveer 1600 medewerkers.
URL:https://www.stichtingbehoudtrinitatiskapel.nl/activiteit/oud-dordrecht-de-victoriafabriek/
LOCATION:Trinitatiskapel\, Vriesestraat 22\, Dordrecht\, 3311 NR\, Nederland
CATEGORIES:vergadering
ATTACH;FMTTYPE=image/png:https://www.stichtingbehoudtrinitatiskapel.nl/wp-content/uploads/2023/02/Oud_Dordrecht_LOGOzonder-125-lowres.png
ORGANIZER;CN="Vereniging Oud-Dordrecht":MAILTO:info@oud-dordrecht.nl
END:VEVENT
BEGIN:VEVENT
DTSTART;TZID=Europe/Amsterdam:20261126T200000
DTEND;TZID=Europe/Amsterdam:20261126T200000
DTSTAMP:20260424T163519
CREATED:20260331T220017Z
LAST-MODIFIED:20260322T145827Z
UID:3868-1795723200-1795723200@www.stichtingbehoudtrinitatiskapel.nl
SUMMARY:Oud-Dordrecht | Dubbeldam en omgeving
DESCRIPTION:Op 30 april 2026 verzorgt Oud Dordrecht een lezing over Dubbeldam en omgeving.
URL:https://www.stichtingbehoudtrinitatiskapel.nl/activiteit/oud-dordrecht-dubbeldam-en-omgeving/
LOCATION:Trinitatiskapel\, Vriesestraat 22\, Dordrecht\, 3311 NR\, Nederland
CATEGORIES:vergadering
ATTACH;FMTTYPE=image/png:https://www.stichtingbehoudtrinitatiskapel.nl/wp-content/uploads/2023/02/Oud_Dordrecht_LOGOzonder-125-lowres.png
ORGANIZER;CN="Vereniging Oud-Dordrecht":MAILTO:info@oud-dordrecht.nl
END:VEVENT
END:VCALENDAR