BEGIN:VCALENDAR
VERSION:2.0
PRODID:-//Stichting Behoud Trinitatiskapel - ECPv6.15.20//NONSGML v1.0//EN
CALSCALE:GREGORIAN
METHOD:PUBLISH
X-WR-CALNAME:Stichting Behoud Trinitatiskapel
X-ORIGINAL-URL:https://www.stichtingbehoudtrinitatiskapel.nl
X-WR-CALDESC:Evenementen voor Stichting Behoud Trinitatiskapel
REFRESH-INTERVAL;VALUE=DURATION:PT1H
X-Robots-Tag:noindex
X-PUBLISHED-TTL:PT1H
BEGIN:VTIMEZONE
TZID:Europe/Amsterdam
BEGIN:DAYLIGHT
TZOFFSETFROM:+0100
TZOFFSETTO:+0200
TZNAME:CEST
DTSTART:20210328T010000
END:DAYLIGHT
BEGIN:STANDARD
TZOFFSETFROM:+0200
TZOFFSETTO:+0100
TZNAME:CET
DTSTART:20211031T010000
END:STANDARD
BEGIN:DAYLIGHT
TZOFFSETFROM:+0100
TZOFFSETTO:+0200
TZNAME:CEST
DTSTART:20220327T010000
END:DAYLIGHT
BEGIN:STANDARD
TZOFFSETFROM:+0200
TZOFFSETTO:+0100
TZNAME:CET
DTSTART:20221030T010000
END:STANDARD
BEGIN:DAYLIGHT
TZOFFSETFROM:+0100
TZOFFSETTO:+0200
TZNAME:CEST
DTSTART:20230326T010000
END:DAYLIGHT
BEGIN:STANDARD
TZOFFSETFROM:+0200
TZOFFSETTO:+0100
TZNAME:CET
DTSTART:20231029T010000
END:STANDARD
BEGIN:DAYLIGHT
TZOFFSETFROM:+0100
TZOFFSETTO:+0200
TZNAME:CEST
DTSTART:20240331T010000
END:DAYLIGHT
BEGIN:STANDARD
TZOFFSETFROM:+0200
TZOFFSETTO:+0100
TZNAME:CET
DTSTART:20241027T010000
END:STANDARD
END:VTIMEZONE
BEGIN:VEVENT
DTSTART;TZID=Europe/Amsterdam:20230420T200000
DTEND;TZID=Europe/Amsterdam:20230420T220000
DTSTAMP:20260426T040655
CREATED:20230224T104517Z
LAST-MODIFIED:20230519T100941Z
UID:2214-1682020800-1682028000@www.stichtingbehoudtrinitatiskapel.nl
SUMMARY:Vergadering Oud Dordrecht
DESCRIPTION:De Algemene Ledenvergadering (ALV) zal dit jaar plaatsvinden op donderdag 20 april 2023 in de Trinitatiskapel. Op de agenda voor deze vergadering staan o.a. het jaarverslag 2022\, het financiële jaarverslag 2022 en de begroting voor 2023. \nPresentatie Jaarboek 2023 \nAansluitend zal de uitreiking van het jaarboek 2023 plaatsvinden. Auteurs Kees Sigmond en Janine Verster zullen een korte toelichting op het jaarboek ‘Dordtse poorters vereeuwigd: De stedelijke elite en de schilderkunst’ tot 1572 geven.
URL:https://www.stichtingbehoudtrinitatiskapel.nl/activiteit/vergadering-oud-dordrecht/
LOCATION:Trinitatiskapel\, Vriesestraat 22\, Dordrecht\, 3311 NR\, Nederland
CATEGORIES:vergadering
ATTACH;FMTTYPE=image/png:https://www.stichtingbehoudtrinitatiskapel.nl/wp-content/uploads/2023/02/Oud_Dordrecht_LOGOzonder-125-lowres.png
ORGANIZER;CN="Vereniging Oud-Dordrecht":MAILTO:info@oud-dordrecht.nl
END:VEVENT
BEGIN:VEVENT
DTSTART;TZID=Europe/Amsterdam:20221224T153000
DTEND;TZID=Europe/Amsterdam:20221224T170000
DTSTAMP:20260426T040655
CREATED:20221204T184710Z
LAST-MODIFIED:20230519T101040Z
UID:1883-1671895800-1671901200@www.stichtingbehoudtrinitatiskapel.nl
SUMMARY:Kerstconcert
DESCRIPTION:Op 24 december vindt een concert plaats van de Gorcum Boys Choir. Dit koor staat onder leiding van Jeroen Bal.\nMuzikale begeleiding is in handen van de violist Alisa van Dijk en de organist Johan den Hoed.
URL:https://www.stichtingbehoudtrinitatiskapel.nl/activiteit/kerstconcert/
LOCATION:Trinitatiskapel\, Vriesestraat 22\, Dordrecht\, 3311 NR\, Nederland
ATTACH;FMTTYPE=image/jpeg:https://www.stichtingbehoudtrinitatiskapel.nl/wp-content/uploads/2022/12/kerstconcert.jpg
END:VEVENT
END:VCALENDAR