BEGIN:VCALENDAR
VERSION:2.0
PRODID:-//Stichting Behoud Trinitatiskapel - ECPv6.15.20//NONSGML v1.0//EN
CALSCALE:GREGORIAN
METHOD:PUBLISH
X-WR-CALNAME:Stichting Behoud Trinitatiskapel
X-ORIGINAL-URL:https://www.stichtingbehoudtrinitatiskapel.nl
X-WR-CALDESC:Evenementen voor Stichting Behoud Trinitatiskapel
REFRESH-INTERVAL;VALUE=DURATION:PT1H
X-Robots-Tag:noindex
X-PUBLISHED-TTL:PT1H
BEGIN:VTIMEZONE
TZID:Europe/Amsterdam
BEGIN:DAYLIGHT
TZOFFSETFROM:+0100
TZOFFSETTO:+0200
TZNAME:CEST
DTSTART:20250330T010000
END:DAYLIGHT
BEGIN:STANDARD
TZOFFSETFROM:+0200
TZOFFSETTO:+0100
TZNAME:CET
DTSTART:20251026T010000
END:STANDARD
BEGIN:DAYLIGHT
TZOFFSETFROM:+0100
TZOFFSETTO:+0200
TZNAME:CEST
DTSTART:20260329T010000
END:DAYLIGHT
BEGIN:STANDARD
TZOFFSETFROM:+0200
TZOFFSETTO:+0100
TZNAME:CET
DTSTART:20261025T010000
END:STANDARD
BEGIN:DAYLIGHT
TZOFFSETFROM:+0100
TZOFFSETTO:+0200
TZNAME:CEST
DTSTART:20270328T010000
END:DAYLIGHT
BEGIN:STANDARD
TZOFFSETFROM:+0200
TZOFFSETTO:+0100
TZNAME:CET
DTSTART:20271031T010000
END:STANDARD
END:VTIMEZONE
BEGIN:VEVENT
DTSTART;TZID=Europe/Amsterdam:20260425T193000
DTEND;TZID=Europe/Amsterdam:20260425T193000
DTSTAMP:20260423T134608
CREATED:20260323T110021Z
LAST-MODIFIED:20260322T142954Z
UID:3849-1777145400-1777145400@www.stichtingbehoudtrinitatiskapel.nl
SUMMARY:Sueños Españoles | Karin Dolman & Caecilia Boschman
DESCRIPTION:Op 25 april geven Karin Dolman en  Caecilia Boschman een kamerconcert in de Trinitatiskapel. \nIn hun nieuwe programma stellen Dolman en Boschman muziek met Spaanse invloeden centraal. De rijke traditie van de Spaanse volksmuziek en de flamenco heeft vele componisten geïnspireerd\, zowel in Spanje zelf als daarbuiten. Kenmerkend voor deze muziek zijn de ritmische scherpte\, zangerige melodielijnen en het uitgesproken karakter. \nKaartverkoop vindt online plaats.
URL:https://www.stichtingbehoudtrinitatiskapel.nl/activiteit/suenos-espanoles-karin-dolman-caecilia-boschman/
LOCATION:Trinitatiskapel\, Vriesestraat 22\, Dordrecht\, 3311 NR\, Nederland
CATEGORIES:concert
ATTACH;FMTTYPE=image/jpeg:https://www.stichtingbehoudtrinitatiskapel.nl/wp-content/uploads/2026/03/dolman.jpeg
ORGANIZER;CN="Kamermuziek Dordrecht":MAILTO:contact@kamermuziekdordrecht.nl
END:VEVENT
BEGIN:VEVENT
DTSTART;TZID=Europe/Amsterdam:20260430T200000
DTEND;TZID=Europe/Amsterdam:20260430T200000
DTSTAMP:20260423T134608
CREATED:20260331T220017Z
LAST-MODIFIED:20260322T144950Z
UID:3860-1777579200-1777579200@www.stichtingbehoudtrinitatiskapel.nl
SUMMARY:Oud-Dordrecht | Over een Joodse familie
DESCRIPTION:Op 30 april 2026 verzorgt Oud Dordrecht een lezing over  een Joodse familie.
URL:https://www.stichtingbehoudtrinitatiskapel.nl/activiteit/oud-dordrecht-over-een-joodse-familie/
LOCATION:Trinitatiskapel\, Vriesestraat 22\, Dordrecht\, 3311 NR\, Nederland
CATEGORIES:vergadering
ATTACH;FMTTYPE=image/png:https://www.stichtingbehoudtrinitatiskapel.nl/wp-content/uploads/2023/02/Oud_Dordrecht_LOGOzonder-125-lowres.png
ORGANIZER;CN="Vereniging Oud-Dordrecht":MAILTO:info@oud-dordrecht.nl
END:VEVENT
BEGIN:VEVENT
DTSTART;TZID=Europe/Amsterdam:20260501T193000
DTEND;TZID=Europe/Amsterdam:20260501T193000
DTSTAMP:20260423T134608
CREATED:20260403T220001Z
LAST-MODIFIED:20260403T162556Z
UID:3877-1777663800-1777663800@www.stichtingbehoudtrinitatiskapel.nl
SUMMARY:Kamermuziek | Strangers in the North
DESCRIPTION:In Strangers in the North hoort u de altviool in al haar gedaanten: intiem en rauw\, mysterieus en uitbundig. Op het programma staat onder meer Stranger van Garth Knox voor altviool en viola d’amore – een intrigerend spel tussen twee verwante zielen\, waarin klankkleuren zich vermengen als licht aan de horizon. \nDaarnaast klinkt een altvioolkwartet waarin de warme middentoon zich vermenigvuldigt tot een rijke\, bijna orkestrale gloed. Solowerken laten de persoonlijke stemmen van ieder van de vier spelers horen: eigenzinnig\, virtuoos en vol karakter. \nDit concert is niet alleen een muzikale reis\, maar ook een vertrekpunt; een moment om samen uit te kijken naar het Noorden\, waar deze vier altviolisten Nederland zullen vertegenwoordigen. \nKaartverkoop vindt online plaats.
URL:https://www.stichtingbehoudtrinitatiskapel.nl/activiteit/kamermuziek-strangers-in-the-north/
LOCATION:Trinitatiskapel\, Vriesestraat 22\, Dordrecht\, 3311 NR\, Nederland
CATEGORIES:concert
ATTACH;FMTTYPE=image/jpeg:https://www.stichtingbehoudtrinitatiskapel.nl/wp-content/uploads/2026/03/strangers-in-the-north.jpg
ORGANIZER;CN="Kamermuziek Dordrecht":MAILTO:contact@kamermuziekdordrecht.nl
END:VEVENT
BEGIN:VEVENT
DTSTART;TZID=Europe/Amsterdam:20260508T133000
DTEND;TZID=Europe/Amsterdam:20260508T153000
DTSTAMP:20260423T134608
CREATED:20260404T100018Z
LAST-MODIFIED:20260404T101851Z
UID:3893-1778247000-1778254200@www.stichtingbehoudtrinitatiskapel.nl
SUMMARY:Rouwcafé | Vjanova
DESCRIPTION:Vanaf 10 april zal er maandelijks\, op de tweede vrijdag van de maand\, een rouwcafé plaatsvinden.\nHet rouwcafé is een open en toegankelijke plek waar iedereen die met verlies te maken heeft welkom is. Je kunt er in alle rust komen luisteren\, je verhaal delen\, anderen ontmoeten die iets soortgelijks doormaken\, of gewoon even aanwezig zijn zonder iets te hoeven zeggen.\nOf je nu recent iemand verloren hebt of al langer met rouw leeft: je hoeft het niet alleen te dragen. Het rouwcafé biedt ruimte\, herkenning en een moment van verbinding.
URL:https://www.stichtingbehoudtrinitatiskapel.nl/activiteit/rouwcafe-vjanova-2/
LOCATION:Trinitatiskapel\, Vriesestraat 22\, Dordrecht\, 3311 NR\, Nederland
CATEGORIES:diversen
ATTACH;FMTTYPE=image/jpeg:https://www.stichtingbehoudtrinitatiskapel.nl/wp-content/uploads/2026/04/vjanova.jpg
ORGANIZER;CN="Vjanova Uitvaartbegeleiding":MAILTO:info@vjanova.nl
END:VEVENT
BEGIN:VEVENT
DTSTART;TZID=Europe/Amsterdam:20260515T200000
DTEND;TZID=Europe/Amsterdam:20260515T200000
DTSTAMP:20260423T134608
CREATED:20260315T110020Z
LAST-MODIFIED:20260404T095744Z
UID:3842-1778875200-1778875200@www.stichtingbehoudtrinitatiskapel.nl
SUMMARY:Chansons | Donij van Doorn & Arjan Breukhoven in Franse sferen
DESCRIPTION:Na het succes van 2025 keren sopraan Donij van Doorn en pianist/organist Arjan Breukhoven op vrijdag 15 mei terug naar de Trinitatiskapel in Dordrecht met het programma Chansons. Tijdens deze avond klinkt een selectie van geliefde Franse klassiekers van onder anderen Jacques Brel\, Édith Piaf en Charles Aznavour. Van Doorn trad wereldwijd op in grote stadions als vocale soliste bij André Rieu. In dit programma wordt zij begeleid door Arjan Breukhoven\, een veelzijdig en veelgevraagd musicus met een internationale concertpraktijk. \nSamen presenteren zij een stijlvol en afwisselend programma. \nMeer informatie & reserveren toegangskaarten \nWebsite van Arjan Breukhoven
URL:https://www.stichtingbehoudtrinitatiskapel.nl/activiteit/concert-donij-en-arjan-2026/
LOCATION:Trinitatiskapel\, Vriesestraat 22\, Dordrecht\, 3311 NR\, Nederland
CATEGORIES:concert
ATTACH;FMTTYPE=image/jpeg:https://www.stichtingbehoudtrinitatiskapel.nl/wp-content/uploads/2023/04/arjandonij.jpg
END:VEVENT
BEGIN:VEVENT
DTSTART;TZID=Europe/Amsterdam:20260529T193000
DTEND;TZID=Europe/Amsterdam:20260529T193000
DTSTAMP:20260423T134608
CREATED:20260323T110021Z
LAST-MODIFIED:20260322T143603Z
UID:3852-1780083000-1780083000@www.stichtingbehoudtrinitatiskapel.nl
SUMMARY:Afro Anatolian Tales
DESCRIPTION:Afro Anatolian Tales is een grensverleggend muziekproject onder leiding van de Nederlands-Turkse percussionist >Sjahin During. \nDe muziek van Afro Anatolian Tales laat zich inspireren door de rijke tradities van Anatolië\, Iran\, India en andere culturen langs de Zijderoute. Ritme en melodie vormen het uitgangspunt\, waarbij oude volksmuziek\, improvisatie en live-elektronica samensmelten tot een meeslepende\, bijna cinematografische luisterervaring. Elk optreden ontstaat in het moment en is daarmee uniek. \nKaartverkoop vindt online plaats.
URL:https://www.stichtingbehoudtrinitatiskapel.nl/activiteit/afro-anatolian-tales/
LOCATION:Trinitatiskapel\, Vriesestraat 22\, Dordrecht\, 3311 NR\, Nederland
CATEGORIES:concert
ATTACH;FMTTYPE=image/jpeg:https://www.stichtingbehoudtrinitatiskapel.nl/wp-content/uploads/2026/03/AFRO-ANATOLIAN-TALES.jpg
ORGANIZER;CN="Kamermuziek Dordrecht":MAILTO:contact@kamermuziekdordrecht.nl
END:VEVENT
BEGIN:VEVENT
DTSTART;TZID=Europe/Amsterdam:20260605T200000
DTEND;TZID=Europe/Amsterdam:20260605T200000
DTSTAMP:20260423T134608
CREATED:20260325T100001Z
LAST-MODIFIED:20260422T171848Z
UID:3904-1780689600-1780689600@www.stichtingbehoudtrinitatiskapel.nl
SUMMARY:Gipsy flamenco gitaarconcert | Manito
DESCRIPTION:Op vrijdag 5 juni bent u van harte welkom in de sfeervolle Trinitatiskapel in Dordrecht voor een bijzonder akoestisch gitaarconcert van Manito. In een intieme en idyllische setting neemt Manito u mee op een muzikale reis vol warmte\, emotie en vakmanschap. \nMet zijn betoverende spel en meeslepende\, verhalende improvisaties gaat Manito een subtiele dialoog aan met zijn publiek. Zijn muziek is rijk aan contrasten: vrolijke rumba flamenca uit de Camargue wordt afgewisseld met weemoedige gipsy romances\, waarin het leven in al zijn bitterzoete facetten doorklinkt. Zijn virtuoze\, soms nauwelijks te volgen spel is een waar genoegen voor zowel oog als oor.\nManito is vernoemd naar de legendarische Franse gitarist Manitas de Plata\, grondlegger van de traditie waar later ook de Gipsy Kings uit voortkwamen. \nEen avond om bij weg te dromen – zeer aanbevolen voor liefhebbers van Spaanse gitaarmuziek en stijlvolle liveconcerten. \nHet reserveren van kaarten is mogelijk via dit mailadres.
URL:https://www.stichtingbehoudtrinitatiskapel.nl/activiteit/gipsy-flamenco-gitaarconcert-manito/
LOCATION:Trinitatiskapel\, Vriesestraat 22\, Dordrecht\, 3311 NR\, Nederland
CATEGORIES:concert
ATTACH;FMTTYPE=image/jpeg:https://www.stichtingbehoudtrinitatiskapel.nl/wp-content/uploads/2026/03/manito.jpg
END:VEVENT
BEGIN:VEVENT
DTSTART;TZID=Europe/Amsterdam:20260612T133000
DTEND;TZID=Europe/Amsterdam:20260612T153000
DTSTAMP:20260423T134608
CREATED:20260404T100018Z
LAST-MODIFIED:20260404T101951Z
UID:3895-1781271000-1781278200@www.stichtingbehoudtrinitatiskapel.nl
SUMMARY:Rouwcafé | Vjanova
DESCRIPTION:Vanaf 10 april zal er maandelijks\, op de tweede vrijdag van de maand\, een rouwcafé plaatsvinden.\nHet rouwcafé is een open en toegankelijke plek waar iedereen die met verlies te maken heeft welkom is. Je kunt er in alle rust komen luisteren\, je verhaal delen\, anderen ontmoeten die iets soortgelijks doormaken\, of gewoon even aanwezig zijn zonder iets te hoeven zeggen.\nOf je nu recent iemand verloren hebt of al langer met rouw leeft: je hoeft het niet alleen te dragen. Het rouwcafé biedt ruimte\, herkenning en een moment van verbinding.
URL:https://www.stichtingbehoudtrinitatiskapel.nl/activiteit/rouwcafe-vjanova-2-2/
LOCATION:Trinitatiskapel\, Vriesestraat 22\, Dordrecht\, 3311 NR\, Nederland
CATEGORIES:diversen
ATTACH;FMTTYPE=image/jpeg:https://www.stichtingbehoudtrinitatiskapel.nl/wp-content/uploads/2026/04/vjanova.jpg
ORGANIZER;CN="Vjanova Uitvaartbegeleiding":MAILTO:info@vjanova.nl
END:VEVENT
BEGIN:VEVENT
DTSTART;TZID=Europe/Amsterdam:20260612T193000
DTEND;TZID=Europe/Amsterdam:20260612T193000
DTSTAMP:20260423T134608
CREATED:20260403T220001Z
LAST-MODIFIED:20260403T163619Z
UID:3880-1781292600-1781292600@www.stichtingbehoudtrinitatiskapel.nl
SUMMARY:Kamermuziek | Familieband | Marjolein Meijers
DESCRIPTION:Al decennialang is Marjolein Meijers een vertrouwd en geliefd gezicht in het Nederlandse theater. Ze brak door in de jaren tachtig met de legendarische muziektheatergroep De Berini’s\, waar haar warme stem en ontwapenende podiumpersoonlijkheid meteen opvielen. Sindsdien bouwde zij een indrukwekkende solocarrière op\, waarin zij het Nederlandse luisterlied verrijkt met invloeden uit folk\, Ierse muziek en Americana. \nSamen met haar man Walter en zijn broer Onno vormt zij een hechte muzikale drie-eenheid\, waarin familiebanden en muzikaal samenspel naadloos in elkaar overvloeien. \nMet Familieband presenteert zij een bijzonder muziekprogramma vol humor\, warmte en meeslepende melodieën. Prachtige liedjes staan centraal: herkenbaar en traditioneel\, ontroerend én komisch tegelijk. \nLaat je meevoeren door accentloze wereldmuziek\, van weemoedige Ierse ballades tot energieke Cajun-ritmes uit Louisiana. Meijers verbindt verhalen en muziek met een vanzelfsprekende charme\, altijd dicht bij het publiek. \nKaartverkoop vindt online plaats.
URL:https://www.stichtingbehoudtrinitatiskapel.nl/activiteit/kamermuziek-familieband-marjolein-meijers/
LOCATION:Trinitatiskapel\, Vriesestraat 22\, Dordrecht\, 3311 NR\, Nederland
CATEGORIES:concert
ATTACH;FMTTYPE=image/jpeg:https://www.stichtingbehoudtrinitatiskapel.nl/wp-content/uploads/2026/04/familieband.jpg
ORGANIZER;CN="Kamermuziek Dordrecht":MAILTO:contact@kamermuziekdordrecht.nl
END:VEVENT
BEGIN:VEVENT
DTSTART;TZID=Europe/Amsterdam:20260617T200000
DTEND;TZID=Europe/Amsterdam:20260617T200000
DTSTAMP:20260423T134608
CREATED:20260331T220017Z
LAST-MODIFIED:20260322T145103Z
UID:3862-1781726400-1781726400@www.stichtingbehoudtrinitatiskapel.nl
SUMMARY:Oud-Dordrecht | Kolonialisme in Dordrecht
DESCRIPTION:Op 30 april 2026 verzorgt Oud Dordrecht een lezing over Kolonialisme in Dordrecht.
URL:https://www.stichtingbehoudtrinitatiskapel.nl/activiteit/oud-dordrecht-kolonialisme-in-dordrecht/
LOCATION:Trinitatiskapel\, Vriesestraat 22\, Dordrecht\, 3311 NR\, Nederland
CATEGORIES:vergadering
ATTACH;FMTTYPE=image/png:https://www.stichtingbehoudtrinitatiskapel.nl/wp-content/uploads/2023/02/Oud_Dordrecht_LOGOzonder-125-lowres.png
ORGANIZER;CN="Vereniging Oud-Dordrecht":MAILTO:info@oud-dordrecht.nl
END:VEVENT
BEGIN:VEVENT
DTSTART;TZID=Europe/Amsterdam:20260627T193000
DTEND;TZID=Europe/Amsterdam:20260627T193000
DTSTAMP:20260423T134608
CREATED:20260325T100001Z
LAST-MODIFIED:20260322T144136Z
UID:3855-1782588600-1782588600@www.stichtingbehoudtrinitatiskapel.nl
SUMMARY:Kamermuziek | Pelgrim Trio
DESCRIPTION:Het Pelgrim Trio bestaat uit klarinettist Thea Rosmulder\, altviolist Karin Dolman en pianist Caecilia Boschman. \nOp 27 juni verzorgt het trio een concert in de kapel. In dit programma worden verschillende facetten van de Schwermut verkend. Als rode draad klinken fragmenten uit de Acht Stücke van Max Bruch: korte\, intieme momenten die als muzikale gedachten tussen de grotere werken door verweven zijn. Zij vormen het kader van een programma waarin verstilling en expressie elkaar voortdurend afwisselen. \nKaartverkoop vindt online plaats.
URL:https://www.stichtingbehoudtrinitatiskapel.nl/activiteit/kamermuziek-pelgrim-trio-2026/
LOCATION:Trinitatiskapel\, Vriesestraat 22\, Dordrecht\, 3311 NR\, Nederland
CATEGORIES:concert
ATTACH;FMTTYPE=image/jpeg:https://www.stichtingbehoudtrinitatiskapel.nl/wp-content/uploads/2025/08/pelgrimtrio.jpg
ORGANIZER;CN="Kamermuziek Dordrecht":MAILTO:contact@kamermuziekdordrecht.nl
END:VEVENT
BEGIN:VEVENT
DTSTART;TZID=Europe/Amsterdam:20260628T150000
DTEND;TZID=Europe/Amsterdam:20260628T163000
DTSTAMP:20260423T134608
CREATED:20260415T100048Z
LAST-MODIFIED:20260322T141437Z
UID:3845-1782658800-1782664200@www.stichtingbehoudtrinitatiskapel.nl
SUMMARY:Processie Heilig Hout
DESCRIPTION:Sinds 2013 vindt in Dordrecht jaarlijks een processie plaats waarbij twee splinters van het Kruishout van Christus door de binnenstad worden rondgedragen. De tocht begint bij de Grote Kerk\, waar deze relieken in de middeleeuwen werden vereerd\, en eindigt bij de Antoniuskerk\, waar de reliekhouder na afloop weer wordt geplaatst op een rustaltaar achter in de kerk. \nVoor deze gelegenheid wordt het Heilig Hout tijdelijk teruggebracht naar de Grote Kerk\, waar het eeuwenlang bewaard is geweest. Van daaruit trekt de processie door de binnenstad\, langs onder meer de Trinitatiskapel en de Wilhelminakerk\, naar de Antoniuskerk. \nDe processie begint om 15.00 uur met een korte gebedsdienst in de Grote Kerk aan de Lange Geldersekade. Aansluitend vertrekt de stoet richting de Antoniuskerk aan de Burgemeester De Raadtsingel\, waar wordt afgesloten met een plechtige lofdienst.
URL:https://www.stichtingbehoudtrinitatiskapel.nl/activiteit/processie-heilig-hout-2026/
LOCATION:Trinitatiskapel\, Vriesestraat 22\, Dordrecht\, 3311 NR\, Nederland
CATEGORIES:diversen
ATTACH;FMTTYPE=image/jpeg:https://www.stichtingbehoudtrinitatiskapel.nl/wp-content/uploads/2023/06/heilig-hout.jpg
END:VEVENT
BEGIN:VEVENT
DTSTART;TZID=Europe/Amsterdam:20261022T200000
DTEND;TZID=Europe/Amsterdam:20261022T200000
DTSTAMP:20260423T134608
CREATED:20260331T220017Z
LAST-MODIFIED:20260322T145704Z
UID:3864-1792699200-1792699200@www.stichtingbehoudtrinitatiskapel.nl
SUMMARY:Oud-Dordrecht | De Victoriafabriek
DESCRIPTION:Op 30 april 2026 verzorgt Oud Dordrecht een lezing over de Victoriafabriek. \nDe biscuitfabriek Victoria aan de Hoge Bakstraat heeft jarenlang mede het gezicht van Dordrecht bepaald. De fabriek werd in 1904 geopend als filiaal van de gelijknamige Brusselse onderneming\, die haar oorsprong vond in 1894. \nVooral onder jonge vrouwen was Victoria een populaire werkgever; velen verkozen het inpakken van koekjes boven het werk als dienstbode. In 1948 werd het duizendste personeelslid verwelkomd en in de jaren vijftig bereikte het personeelsbestand een hoogtepunt van ongeveer 1600 medewerkers.
URL:https://www.stichtingbehoudtrinitatiskapel.nl/activiteit/oud-dordrecht-de-victoriafabriek/
LOCATION:Trinitatiskapel\, Vriesestraat 22\, Dordrecht\, 3311 NR\, Nederland
CATEGORIES:vergadering
ATTACH;FMTTYPE=image/png:https://www.stichtingbehoudtrinitatiskapel.nl/wp-content/uploads/2023/02/Oud_Dordrecht_LOGOzonder-125-lowres.png
ORGANIZER;CN="Vereniging Oud-Dordrecht":MAILTO:info@oud-dordrecht.nl
END:VEVENT
BEGIN:VEVENT
DTSTART;TZID=Europe/Amsterdam:20261126T200000
DTEND;TZID=Europe/Amsterdam:20261126T200000
DTSTAMP:20260423T134608
CREATED:20260331T220017Z
LAST-MODIFIED:20260322T145827Z
UID:3868-1795723200-1795723200@www.stichtingbehoudtrinitatiskapel.nl
SUMMARY:Oud-Dordrecht | Dubbeldam en omgeving
DESCRIPTION:Op 30 april 2026 verzorgt Oud Dordrecht een lezing over Dubbeldam en omgeving.
URL:https://www.stichtingbehoudtrinitatiskapel.nl/activiteit/oud-dordrecht-dubbeldam-en-omgeving/
LOCATION:Trinitatiskapel\, Vriesestraat 22\, Dordrecht\, 3311 NR\, Nederland
CATEGORIES:vergadering
ATTACH;FMTTYPE=image/png:https://www.stichtingbehoudtrinitatiskapel.nl/wp-content/uploads/2023/02/Oud_Dordrecht_LOGOzonder-125-lowres.png
ORGANIZER;CN="Vereniging Oud-Dordrecht":MAILTO:info@oud-dordrecht.nl
END:VEVENT
END:VCALENDAR